BEGIN:VCALENDAR
VERSION:2.0
PRODID:-//Flottentermine - ECPv6.15.20//NONSGML v1.0//EN
CALSCALE:GREGORIAN
METHOD:PUBLISH
X-WR-CALNAME:Flottentermine
X-ORIGINAL-URL:https://www.flottentermine.de
X-WR-CALDESC:Veranstaltungen für Flottentermine
REFRESH-INTERVAL;VALUE=DURATION:PT1H
X-Robots-Tag:noindex
X-PUBLISHED-TTL:PT1H
BEGIN:VTIMEZONE
TZID:Europe/Helsinki
BEGIN:DAYLIGHT
TZOFFSETFROM:+0200
TZOFFSETTO:+0300
TZNAME:EEST
DTSTART:20260329T010000
END:DAYLIGHT
BEGIN:STANDARD
TZOFFSETFROM:+0300
TZOFFSETTO:+0200
TZNAME:EET
DTSTART:20261025T010000
END:STANDARD
BEGIN:DAYLIGHT
TZOFFSETFROM:+0200
TZOFFSETTO:+0300
TZNAME:EEST
DTSTART:20270328T010000
END:DAYLIGHT
BEGIN:STANDARD
TZOFFSETFROM:+0300
TZOFFSETTO:+0200
TZNAME:EET
DTSTART:20271031T010000
END:STANDARD
BEGIN:DAYLIGHT
TZOFFSETFROM:+0200
TZOFFSETTO:+0300
TZNAME:EEST
DTSTART:20280326T010000
END:DAYLIGHT
BEGIN:STANDARD
TZOFFSETFROM:+0300
TZOFFSETTO:+0200
TZNAME:EET
DTSTART:20281029T010000
END:STANDARD
END:VTIMEZONE
BEGIN:VEVENT
DTSTART;VALUE=DATE:20270319
DTEND;VALUE=DATE:20270321
DTSTAMP:20260425T233325
CREATED:20260412T185040Z
LAST-MODIFIED:20260412T185336Z
UID:10000121-1805414400-1805587199@www.flottentermine.de
SUMMARY:Würzburger Karosserie- und Schadenstage
DESCRIPTION:Die Würzburger Karosserie- und Schadenstage sind eine Fachveranstaltung der Fuhrpark- und Kfz-Branche in Würzburg. \nIm Mittelpunkt stehen aktuelle Entwicklungen rund um Karosserie\, Schadenmanagement\, Reparaturprozesse und Versicherungsfragen. Die Veranstaltung richtet sich an Fuhrparkverantwortliche\, Einkäufer sowie Mobilitätsentscheider und bietet einen branchenbezogenen Austausch zu relevanten Praxis- und Marktthemen. \nInteressierte können das Programm sowie weitere Details auf der Veranstaltungswebsite abrufen und den Termin vormerken. Der Eintrag bietet einen schnellen Überblick für die Planung im Fuhrparkumfeld.
URL:https://www.flottentermine.de/event/wuerburger-karisserie-schadenstage/
LOCATION:Vogel Convention Center Würzburg\, Max-Planck Straße 7\, Würzburg\, Bayern\, 97082\, Germany
CATEGORIES:Präsenz
GEO:49.7970754;9.9007396
X-APPLE-STRUCTURED-LOCATION;VALUE=URI;X-ADDRESS=Vogel Convention Center Würzburg Max-Planck Straße 7 Würzburg Bayern 97082 Germany;X-APPLE-RADIUS=500;X-TITLE=Max-Planck Straße 7:geo:9.9007396,49.7970754
END:VEVENT
END:VCALENDAR