BEGIN:VCALENDAR
VERSION:2.0
PRODID:-//Flottentermine - ECPv6.15.20//NONSGML v1.0//EN
CALSCALE:GREGORIAN
METHOD:PUBLISH
X-WR-CALNAME:Flottentermine
X-ORIGINAL-URL:https://www.flottentermine.de
X-WR-CALDESC:Veranstaltungen für Flottentermine
REFRESH-INTERVAL;VALUE=DURATION:PT1H
X-Robots-Tag:noindex
X-PUBLISHED-TTL:PT1H
BEGIN:VTIMEZONE
TZID:Europe/Helsinki
BEGIN:DAYLIGHT
TZOFFSETFROM:+0200
TZOFFSETTO:+0300
TZNAME:EEST
DTSTART:20250330T010000
END:DAYLIGHT
BEGIN:STANDARD
TZOFFSETFROM:+0300
TZOFFSETTO:+0200
TZNAME:EET
DTSTART:20251026T010000
END:STANDARD
BEGIN:DAYLIGHT
TZOFFSETFROM:+0200
TZOFFSETTO:+0300
TZNAME:EEST
DTSTART:20260329T010000
END:DAYLIGHT
BEGIN:STANDARD
TZOFFSETFROM:+0300
TZOFFSETTO:+0200
TZNAME:EET
DTSTART:20261025T010000
END:STANDARD
BEGIN:DAYLIGHT
TZOFFSETFROM:+0200
TZOFFSETTO:+0300
TZNAME:EEST
DTSTART:20270328T010000
END:DAYLIGHT
BEGIN:STANDARD
TZOFFSETFROM:+0300
TZOFFSETTO:+0200
TZNAME:EET
DTSTART:20271031T010000
END:STANDARD
END:VTIMEZONE
BEGIN:VEVENT
DTSTART;TZID=Europe/Helsinki:20260505T090000
DTEND;TZID=Europe/Helsinki:20260505T130000
DTSTAMP:20260425T221122
CREATED:20260311T124447Z
LAST-MODIFIED:20260311T124447Z
UID:10000092-1777971600-1777986000@www.flottentermine.de
SUMMARY:Versand & Lagerung von Lithiumbatterien
DESCRIPTION:Das Online-Forum Versand & Lagerung von Lithiumbatterien behandelt Anforderungen rund um den sicheren Umgang mit Lithiumbatterien im Transport- und Logistikumfeld. \nIm Mittelpunkt stehen rechtliche Vorgaben\, praktische Herausforderungen sowie organisatorische Maßnahmen bei Versand und Lagerung. Die Veranstaltung richtet sich an Verantwortliche aus Logistik\, Transport und Fuhrpark\, die mit entsprechenden Gefahrgutprozessen befasst sind. \nDas Online-Forum Versand & Lagerung von Lithiumbatterien bietet eine kompakte Übersicht zum Thema.
URL:https://www.flottentermine.de/event/versand-lagerung-von-lithiumbatterien/
LOCATION:Online
CATEGORIES:Online
END:VEVENT
BEGIN:VEVENT
DTSTART;TZID=Europe/Helsinki:20260512T100000
DTEND;TZID=Europe/Helsinki:20260512T113000
DTSTAMP:20260425T221122
CREATED:20260311T124752Z
LAST-MODIFIED:20260311T124752Z
UID:10000093-1778580000-1778585400@www.flottentermine.de
SUMMARY:Gefahrgut bei multimodalen Transporten
DESCRIPTION:Das Online-Seminar Gefahrgut bei multimodalen Transporten behandelt rechtliche und organisatorische Anforderungen beim Transport gefährlicher Güter über mehrere Verkehrsträger. \nIm Mittelpunkt stehen Grundlagen und praktische Aspekte im Umgang mit Gefahrgut bei multimodalen Transporten sowie relevante Vorschriften und Schnittstellen zwischen verschiedenen Transportformen. Die Veranstaltung richtet sich an Verantwortliche aus Logistik\, Transport und Fuhrparkmanagement. \nDer Termin bietet eine kompakte Übersicht zu aktuellen Anforderungen.
URL:https://www.flottentermine.de/event/gefahrgut-multimodale-transporte/
LOCATION:Online
CATEGORIES:Online
END:VEVENT
BEGIN:VEVENT
DTSTART;TZID=Europe/Helsinki:20260609T100000
DTEND;TZID=Europe/Helsinki:20260609T113000
DTSTAMP:20260425T221122
CREATED:20260311T131035Z
LAST-MODIFIED:20260311T131035Z
UID:10000094-1780999200-1781004600@www.flottentermine.de
SUMMARY:Gefahrgut-Sprechstunde
DESCRIPTION:Die Gefahrgut-Sprechstunde ist ein Online-Seminar mit Fokus auf Fragen rund um den Transport gefährlicher Güter. Die Veranstaltung richtet sich an Verantwortliche aus Logistik\, Transport und Fuhrparkmanagement\, die sich mit aktuellen Anforderungen im Gefahrgutrecht befassen. \nIm Rahmen der Gefahrgut-Sprechstunde können Teilnehmende praxisbezogene Fragestellungen einbringen und fachliche Einschätzungen zu rechtlichen und organisatorischen Themen erhalten. Inhalte beziehen sich auf den Umgang mit Gefahrgut im Transportalltag.
URL:https://www.flottentermine.de/event/gefahrgut-sprechstunde-termin-infos/
LOCATION:Online
CATEGORIES:Online
END:VEVENT
BEGIN:VEVENT
DTSTART;TZID=Europe/Helsinki:20260915T100000
DTEND;TZID=Europe/Helsinki:20260915T113000
DTSTAMP:20260425T221122
CREATED:20260311T132730Z
LAST-MODIFIED:20260311T132730Z
UID:10000095-1789466400-1789471800@www.flottentermine.de
SUMMARY:Die Handwerkerregelung: Möglichkeiten und Grenzen
DESCRIPTION:Das Online-Seminar Die Handwerkerregelung: Möglichkeiten und Grenzen behandelt rechtliche Rahmenbedingungen der sogenannten Handwerkerregelung im gewerblichen Güterverkehr. Die Veranstaltung richtet sich an Verantwortliche im Transport- und Fuhrparkmanagement\, die sich über Voraussetzungen\, Anwendungsbereiche und Einschränkungen informieren möchten. \nIm Fokus stehen typische Praxisfragen rund um Einsatzbereiche\, Dokumentationspflichten und Abgrenzungen zur regulären Lenk- und Ruhezeitenregelung. Teilnehmende erhalten einen Überblick über relevante Vorgaben und deren Bedeutung im betrieblichen Alltag.
URL:https://www.flottentermine.de/event/handwerkerregelung-moeglichkeiten/
LOCATION:Online
CATEGORIES:Online
END:VEVENT
BEGIN:VEVENT
DTSTART;TZID=Europe/Helsinki:20260923T090000
DTEND;TZID=Europe/Helsinki:20260923T130000
DTSTAMP:20260425T221122
CREATED:20260311T133135Z
LAST-MODIFIED:20260311T133217Z
UID:10000097-1790154000-1790168400@www.flottentermine.de
SUMMARY:Vorschriftenänderungen 2027
DESCRIPTION:Das Online-Forum Vorschriftenänderungen 2027 informiert über kommende Änderungen im Gefahrgutrecht und deren Bedeutung für die betriebliche Transportpraxis. \nIm Fokus stehen Anpassungen der Vorschriften zur Beförderung gefährlicher Güter sowie deren Auswirkungen auf Arbeitsanweisungen\, Checklisten\, Unterweisungen und betriebliche Abläufe. Behandelt werden unter anderem Regelwerke wie ADR\, RID\, ADN\, IMDG-Code und IATA-DGR sowie nationale Vorschriften\, soweit bereits bekannt. \nDie Veranstaltung richtet sich an Fach- und Führungskräfte\, die sich frühzeitig über regulatorische Änderungen informieren möchten.
URL:https://www.flottentermine.de/event/vorschriftenaenderungen-2027/
LOCATION:Online
CATEGORIES:Online
END:VEVENT
BEGIN:VEVENT
DTSTART;TZID=Europe/Helsinki:20260929T090000
DTEND;TZID=Europe/Helsinki:20260929T130000
DTSTAMP:20260425T221122
CREATED:20260311T134122Z
LAST-MODIFIED:20260311T135201Z
UID:10000100-1790672400-1790686800@www.flottentermine.de
SUMMARY:Online Foren Abfall: Modul 1 - Zielgruppe Logistikdienstleister
DESCRIPTION:Das Online-Seminar Online Foren Abfall: Modul 1 – Zielgruppe Logistikdienstleister richtet sich an Fach- und Führungskräfte aus Transport\, Logistik und Fuhrparkmanagement. \nIm Fokus stehen Grundlagen und aktuelle Anforderungen rund um das Thema Abfall im Logistikbereich. Das Modul behandelt rechtliche Rahmenbedingungen\, organisatorische Aspekte sowie praxisrelevante Fragestellungen für Logistikdienstleister im Umgang mit Abfallströmen. \nDie Veranstaltung bietet eine kompakte Einführung in zentrale Themenfelder und dient der fachlichen Orientierung für Verantwortliche im Fuhrpark- und Logistikumfeld.
URL:https://www.flottentermine.de/event/online-foren-abfall-logistik/
LOCATION:Online
CATEGORIES:Online
END:VEVENT
BEGIN:VEVENT
DTSTART;TZID=Europe/Helsinki:20261007T090000
DTEND;TZID=Europe/Helsinki:20261007T130000
DTSTAMP:20260425T221122
CREATED:20260311T140017Z
LAST-MODIFIED:20260311T140017Z
UID:10000104-1791363600-1791378000@www.flottentermine.de
SUMMARY:Gefahrstoffrecht & Co. - Was gibt’s Neues?
DESCRIPTION:Das Online-Forum Gefahrstoffrecht & Co. – Was gibt’s Neues? informiert über aktuelle Entwicklungen und Änderungen im Bereich Gefahrstoffrecht und angrenzender Vorschriften. \nIm Fokus stehen rechtliche Rahmenbedingungen\, neue Regelungen sowie deren praktische Bedeutung für Unternehmen und Verantwortliche im Bereich Transport\, Logistik und Fuhrparkmanagement. Das Forum bietet einen Überblick über relevante Themen und ermöglicht die Einordnung aktueller gesetzlicher Anpassungen.
URL:https://www.flottentermine.de/event/gefahrstoffrecht-neuerungen-neues/
LOCATION:Online
CATEGORIES:Online
END:VEVENT
BEGIN:VEVENT
DTSTART;TZID=Europe/Helsinki:20261020T090000
DTEND;TZID=Europe/Helsinki:20261020T130000
DTSTAMP:20260425T221122
CREATED:20260311T133356Z
LAST-MODIFIED:20260311T133356Z
UID:10000099-1792486800-1792501200@www.flottentermine.de
SUMMARY:Vorschriftenänderungen 2027
DESCRIPTION:Das Online-Forum Vorschriftenänderungen 2027 informiert über kommende Änderungen im Gefahrgutrecht und deren Bedeutung für die betriebliche Transportpraxis. \nIm Fokus stehen Anpassungen der Vorschriften zur Beförderung gefährlicher Güter sowie deren Auswirkungen auf Arbeitsanweisungen\, Checklisten\, Unterweisungen und betriebliche Abläufe. Behandelt werden unter anderem Regelwerke wie ADR\, RID\, ADN\, IMDG-Code und IATA-DGR sowie nationale Vorschriften\, soweit bereits bekannt. \nDie Veranstaltung richtet sich an Fach- und Führungskräfte\, die sich frühzeitig über regulatorische Änderungen informieren möchten.
URL:https://www.flottentermine.de/event/vorschriftenaenderungen-2027-2/
LOCATION:Online
CATEGORIES:Online
END:VEVENT
BEGIN:VEVENT
DTSTART;TZID=Europe/Helsinki:20261022T090000
DTEND;TZID=Europe/Helsinki:20261022T130000
DTSTAMP:20260425T221122
CREATED:20260311T134507Z
LAST-MODIFIED:20260311T135210Z
UID:10000101-1792659600-1792674000@www.flottentermine.de
SUMMARY:Online Foren Abfall: Modul 2 - Zielgruppe Abfallerzeuger
DESCRIPTION:Das Online-Seminar Online Foren Abfall: Modul 2 – Zielgruppe Abfallerzeuger behandelt rechtliche und organisatorische Anforderungen im Umgang mit Abfällen aus Sicht von Abfallerzeugern. Im Mittelpunkt stehen Pflichten\, Verantwortlichkeiten und praktische Aspekte der Abfallbewirtschaftung im betrieblichen Kontext. Die Veranstaltung richtet sich an Fach- und Führungskräfte\, die mit Abfallmanagement und Transportprozessen befasst sind. Das Modul ist Teil der Reihe Online Foren Abfall: Modul 2 – Zielgruppe Abfallerzeuger.
URL:https://www.flottentermine.de/event/online-foren-abfall-abfallerzeuger/
LOCATION:Online
CATEGORIES:Online
END:VEVENT
BEGIN:VEVENT
DTSTART;TZID=Europe/Helsinki:20261105T090000
DTEND;TZID=Europe/Helsinki:20261105T130000
DTSTAMP:20260425T221122
CREATED:20260311T134934Z
LAST-MODIFIED:20260311T135257Z
UID:10000102-1793869200-1793883600@www.flottentermine.de
SUMMARY:Online Foren Abfall: Modul 3 - Zielgruppe Abfallerzeuger\, Gefahrgutbeauftragte\, Logistikdienstleister
DESCRIPTION:Das Online-Seminar Online Foren Abfall Modul 3 richtet sich an Fachkräfte aus Abfallwirtschaft\, Logistik und Compliance. Im Mittelpunkt stehen fachliche und rechtliche Aspekte rund um Abfallprozesse und deren praktische Umsetzung im betrieblichen Umfeld. \nDie Veranstaltung behandelt Themen aus dem Bereich Abfallmanagement und richtet sich insbesondere an Abfallerzeuger\, Gefahrgutbeauftragte sowie Logistikdienstleister. Ziel ist der fachliche Austausch zu aktuellen Anforderungen und organisatorischen Abläufen im Umgang mit Abfällen.
URL:https://www.flottentermine.de/event/online-foren-abfall-abfallerzeuger-2/
LOCATION:Online
CATEGORIES:Online
END:VEVENT
BEGIN:VEVENT
DTSTART;TZID=Europe/Helsinki:20261201T090000
DTEND;TZID=Europe/Helsinki:20261201T130000
DTSTAMP:20260425T221122
CREATED:20260311T135640Z
LAST-MODIFIED:20260311T135640Z
UID:10000103-1796115600-1796130000@www.flottentermine.de
SUMMARY:Online Foren Abfall: Online Foren Abfall: Modul 4 - Zielgruppe Abfallerzeuger und Logistikdienstleister
DESCRIPTION:Das Online-Seminar richtet sich an Fach- und Führungskräfte aus Logistik\, Transport und Entsorgung\, die sich mit aktuellen Anforderungen im Abfallbereich befassen. Das Modul Online Foren Abfall: Modul 4 – Zielgruppe Abfallerzeuger und Logistikdienstleister behandelt zentrale Fragestellungen rund um Abfallerzeuger sowie die Rolle von Logistikdienstleistern in der Entsorgungskette. Teilnehmende erhalten einen Überblick über relevante Rahmenbedingungen und Praxisaspekte. Weitere Informationen zum Ablauf und zur Teilnahme sind auf der Veranstaltungsseite verfügbar.
URL:https://www.flottentermine.de/event/online-foren-abfall-modul-4/
LOCATION:Online
CATEGORIES:Online
END:VEVENT
BEGIN:VEVENT
DTSTART;TZID=Europe/Helsinki:20261210T100000
DTEND;TZID=Europe/Helsinki:20261210T113000
DTSTAMP:20260425T221122
CREATED:20260311T140305Z
LAST-MODIFIED:20260311T140305Z
UID:10000105-1796896800-1796902200@www.flottentermine.de
SUMMARY:Beförderung gefährlicher Güter in begrenzten Mengen (LQ)
DESCRIPTION:Das Online-Seminar Beförderung gefährlicher Güter in begrenzten Mengen (LQ) behandelt rechtliche Grundlagen und praktische Anforderungen beim Transport von Gefahrgut in begrenzten Mengen. \nIm Fokus stehen Vorschriften\, Kennzeichnung sowie organisatorische Aspekte der sicheren Beförderung. Die Veranstaltung richtet sich an Verantwortliche im Transport- und Fuhrparkmanagement\, die mit Gefahrgutprozessen befasst sind. \nTeilnehmende erhalten einen Überblick zu relevanten Regelungen und Anwendungsfällen.
URL:https://www.flottentermine.de/event/befoerderung-gefaehrlicher-gueter/
LOCATION:Online
CATEGORIES:Online
END:VEVENT
END:VCALENDAR