BEGIN:VCALENDAR
VERSION:2.0
PRODID:-//Flottentermine - ECPv6.15.20//NONSGML v1.0//EN
CALSCALE:GREGORIAN
METHOD:PUBLISH
X-ORIGINAL-URL:https://www.flottentermine.de
X-WR-CALDESC:Veranstaltungen für Flottentermine
REFRESH-INTERVAL;VALUE=DURATION:PT1H
X-Robots-Tag:noindex
X-PUBLISHED-TTL:PT1H
BEGIN:VTIMEZONE
TZID:Europe/Helsinki
BEGIN:DAYLIGHT
TZOFFSETFROM:+0200
TZOFFSETTO:+0300
TZNAME:EEST
DTSTART:20250330T010000
END:DAYLIGHT
BEGIN:STANDARD
TZOFFSETFROM:+0300
TZOFFSETTO:+0200
TZNAME:EET
DTSTART:20251026T010000
END:STANDARD
BEGIN:DAYLIGHT
TZOFFSETFROM:+0200
TZOFFSETTO:+0300
TZNAME:EEST
DTSTART:20260329T010000
END:DAYLIGHT
BEGIN:STANDARD
TZOFFSETFROM:+0300
TZOFFSETTO:+0200
TZNAME:EET
DTSTART:20261025T010000
END:STANDARD
BEGIN:DAYLIGHT
TZOFFSETFROM:+0200
TZOFFSETTO:+0300
TZNAME:EEST
DTSTART:20270328T010000
END:DAYLIGHT
BEGIN:STANDARD
TZOFFSETFROM:+0300
TZOFFSETTO:+0200
TZNAME:EET
DTSTART:20271031T010000
END:STANDARD
END:VTIMEZONE
BEGIN:VEVENT
DTSTART;TZID=Europe/Helsinki:20260421T100000
DTEND;TZID=Europe/Helsinki:20260421T113000
DTSTAMP:20260425T233153
CREATED:20260308T172252Z
LAST-MODIFIED:20260311T142130Z
UID:10000089-1776765600-1776771000@www.flottentermine.de
SUMMARY:Auswahl und Kontrolle Güterbeförderungseinheit
DESCRIPTION:Das Online-Seminar Auswahl und Kontrolle einer geeigneten Güterbeförderungseinheit vermittelt grundlegende Anforderungen für die sichere Auswahl von Transportmitteln im Güterverkehr. Im Fokus stehen organisatorische und rechtliche Aspekte bei der Vorbereitung von Transporten. \nTeilnehmende erhalten einen Überblick über relevante Vorschriften sowie über praktische Kriterien zur Prüfung von Fahrzeugen und Beförderungseinheiten. Dabei wird unter anderem behandelt\, wie gefährliche Güter korrekt verladen und welche Anforderungen aus internationalen und nationalen Regelwerken berücksichtigt werden müssen. \nDie Veranstaltung richtet sich an Verantwortliche aus Transport\, Logistik und Fuhrparkmanagement.
URL:https://www.flottentermine.de/event/auswahl-und-kontrolle-gueter/
LOCATION:Online
CATEGORIES:Online
END:VEVENT
BEGIN:VEVENT
DTSTART;TZID=Europe/Helsinki:20260415T100000
DTEND;TZID=Europe/Helsinki:20260415T113000
DTSTAMP:20260425T233153
CREATED:20260308T171139Z
LAST-MODIFIED:20260308T171759Z
UID:10000088-1776247200-1776252600@www.flottentermine.de
SUMMARY:Digitaler Innovationstag Verpackungslösungen
DESCRIPTION:Der Digitale Innovationstag Verpackungslösungen ist ein Online-Event der VerkehrsRundschau und richtet sich an Fach- und Führungskräfte aus Transport\, Logistik und Supply Chain. Die Veranstaltung bietet einen Überblick über aktuelle Entwicklungen rund um Verpackungskonzepte und deren Bedeutung für Transportprozesse. \nIm Mittelpunkt stehen Ansätze und Praxisbeispiele zu nachhaltigen und effizienten Verpackungslösungen sowie deren Einsatz in der Logistik. Fachvorträge beleuchten Trends\, Anforderungen und mögliche Umsetzungsstrategien im betrieblichen Umfeld. \nDer Digitale Innovationstag Verpackungslösungen ermöglicht einen kompakten Einblick in aktuelle Fragestellungen.
URL:https://www.flottentermine.de/event/innovationstag-verpackungsloesungen/
LOCATION:Online
CATEGORIES:Online
END:VEVENT
BEGIN:VEVENT
DTSTART;TZID=Europe/Helsinki:20260414T100000
DTEND;TZID=Europe/Helsinki:20260414T113000
DTSTAMP:20260425T233153
CREATED:20260308T170807Z
LAST-MODIFIED:20260308T170807Z
UID:10000087-1776160800-1776166200@www.flottentermine.de
SUMMARY:AwSV für Spediteure
DESCRIPTION:Das Online-Seminar AwSV für Spediteure behandelt zentrale Anforderungen der Verordnung über Anlagen zum Umgang mit wassergefährdenden Stoffen im Logistik- und Transportumfeld. \nIm Rahmen der Veranstaltung erhalten Teilnehmende einen Überblick über relevante rechtliche Vorgaben\, typische Praxisfragen sowie Anforderungen an Anlagen und betriebliche Abläufe im Umgang mit wassergefährdenden Stoffen. Das Seminar richtet sich an Unternehmen aus Transport\, Logistik und Spedition\, die ihre Pflichten im Kontext von Lagerung\, Umschlag oder Betrieb entsprechender Anlagen einordnen möchten.
URL:https://www.flottentermine.de/event/awsv-fuer-spediteure-anforderungen/
LOCATION:Online
CATEGORIES:Online
END:VEVENT
BEGIN:VEVENT
DTSTART;TZID=Europe/Helsinki:20260324T100000
DTEND;TZID=Europe/Helsinki:20260324T113000
DTSTAMP:20260425T233153
CREATED:20260308T170102Z
LAST-MODIFIED:20260308T170156Z
UID:10000086-1774346400-1774351800@www.flottentermine.de
SUMMARY:Sprengstoffrecht – Eingeschränkte Fachkunde
DESCRIPTION:Die Veranstaltung Sprengstoffrecht – Eingeschränkte Fachkunde ist ein Online-Seminar zu rechtlichen Grundlagen im Umgang mit bestimmten explosionsgefährlichen Stoffen. Sie richtet sich an Personen\, die im Transport- oder Logistikumfeld mit entsprechenden Vorschriften arbeiten. \nIm Fokus stehen gesetzliche Anforderungen\, Zuständigkeiten und praktische Fragestellungen im Anwendungsbereich des Sprengstoffrechts. Behandelt werden zentrale Inhalte rund um Sprengstoffrecht Eingeschränkte Fachkunde im beruflichen Kontext.
URL:https://www.flottentermine.de/event/sprengstoffrecht-eingeschraenkte-fachkunde/
LOCATION:Online
CATEGORIES:Online
END:VEVENT
BEGIN:VEVENT
DTSTART;TZID=Europe/Helsinki:20260310T100000
DTEND;TZID=Europe/Helsinki:20260310T113000
DTSTAMP:20260425T233153
CREATED:20260308T165332Z
LAST-MODIFIED:20260308T165555Z
UID:10000085-1773136800-1773142200@www.flottentermine.de
SUMMARY:Gefährliche Güter als Kühlmittel
DESCRIPTION:Die Veranstaltung Gefährliche Güter als Kühlmittel ist ein Online-Seminar zu rechtlichen und organisatorischen Anforderungen beim Einsatz bestimmter Kühlmittel im Transport. Sie richtet sich an Verantwortliche aus Logistik\, Transport und Fuhrparkmanagement. \nIm Fokus stehen Vorschriften und praktische Fragestellungen im Umgang mit Stoffen\, die im Transportrecht als Gefahrgut eingestuft sind. Thematisiert werden dabei auch Regelwerke und Anwendungsfälle rund um Gefährliche Güter als Kühlmittel.
URL:https://www.flottentermine.de/event/gefaehrliche-gueter-als-kuehlmittel/
LOCATION:Online
CATEGORIES:Online
END:VEVENT
END:VCALENDAR