BEGIN:VCALENDAR
VERSION:2.0
PRODID:-//Flottentermine - ECPv6.15.20//NONSGML v1.0//EN
CALSCALE:GREGORIAN
METHOD:PUBLISH
X-ORIGINAL-URL:https://www.flottentermine.de
X-WR-CALDESC:Veranstaltungen für Flottentermine
REFRESH-INTERVAL;VALUE=DURATION:PT1H
X-Robots-Tag:noindex
X-PUBLISHED-TTL:PT1H
BEGIN:VTIMEZONE
TZID:Europe/Helsinki
BEGIN:DAYLIGHT
TZOFFSETFROM:+0200
TZOFFSETTO:+0300
TZNAME:EEST
DTSTART:20250330T010000
END:DAYLIGHT
BEGIN:STANDARD
TZOFFSETFROM:+0300
TZOFFSETTO:+0200
TZNAME:EET
DTSTART:20251026T010000
END:STANDARD
BEGIN:DAYLIGHT
TZOFFSETFROM:+0200
TZOFFSETTO:+0300
TZNAME:EEST
DTSTART:20260329T010000
END:DAYLIGHT
BEGIN:STANDARD
TZOFFSETFROM:+0300
TZOFFSETTO:+0200
TZNAME:EET
DTSTART:20261025T010000
END:STANDARD
BEGIN:DAYLIGHT
TZOFFSETFROM:+0200
TZOFFSETTO:+0300
TZNAME:EEST
DTSTART:20270328T010000
END:DAYLIGHT
BEGIN:STANDARD
TZOFFSETFROM:+0300
TZOFFSETTO:+0200
TZNAME:EET
DTSTART:20271031T010000
END:STANDARD
END:VTIMEZONE
BEGIN:VEVENT
DTSTART;TZID=Europe/Helsinki:20260319T110000
DTEND;TZID=Europe/Helsinki:20260319T114500
DTSTAMP:20260426T010318
CREATED:20260308T162255Z
LAST-MODIFIED:20260308T162812Z
UID:10000082-1773918000-1773920700@www.flottentermine.de
SUMMARY:Öffentliches Laden strategisch denken
DESCRIPTION:Öffentliches Laden strategisch denken ist ein Webinar zu Planung und Einordnung öffentlicher Ladeinfrastruktur im Kontext der Elektromobilität. Die Veranstaltung richtet sich an Verantwortliche\, die sich mit Lade- und Mobilitätsstrategien in Unternehmen befassen. \nIm Fokus stehen Rahmenbedingungen\, mögliche Einsatzszenarien und strategische Überlegungen zum Aufbau und Betrieb öffentlich zugänglicher Ladepunkte. Behandelt werden Aspekte rund um Planung\, Nutzung und Integration in bestehende Mobilitätskonzepte.
URL:https://www.flottentermine.de/event/oeffentliches-laden-strategisch-denken/
LOCATION:Online
CATEGORIES:Online
ORGANIZER;CN="EnBW Energie Baden-W%C3%BCrttemberg AG":MAILTO:kontakt@enbw.com
END:VEVENT
END:VCALENDAR