BEGIN:VCALENDAR
VERSION:2.0
PRODID:-//Flottentermine - ECPv6.15.20//NONSGML v1.0//EN
CALSCALE:GREGORIAN
METHOD:PUBLISH
X-ORIGINAL-URL:https://www.flottentermine.de
X-WR-CALDESC:Veranstaltungen für Flottentermine
REFRESH-INTERVAL;VALUE=DURATION:PT1H
X-Robots-Tag:noindex
X-PUBLISHED-TTL:PT1H
BEGIN:VTIMEZONE
TZID:Europe/Helsinki
BEGIN:DAYLIGHT
TZOFFSETFROM:+0200
TZOFFSETTO:+0300
TZNAME:EEST
DTSTART:20250330T010000
END:DAYLIGHT
BEGIN:STANDARD
TZOFFSETFROM:+0300
TZOFFSETTO:+0200
TZNAME:EET
DTSTART:20251026T010000
END:STANDARD
BEGIN:DAYLIGHT
TZOFFSETFROM:+0200
TZOFFSETTO:+0300
TZNAME:EEST
DTSTART:20260329T010000
END:DAYLIGHT
BEGIN:STANDARD
TZOFFSETFROM:+0300
TZOFFSETTO:+0200
TZNAME:EET
DTSTART:20261025T010000
END:STANDARD
BEGIN:DAYLIGHT
TZOFFSETFROM:+0200
TZOFFSETTO:+0300
TZNAME:EEST
DTSTART:20270328T010000
END:DAYLIGHT
BEGIN:STANDARD
TZOFFSETFROM:+0300
TZOFFSETTO:+0200
TZNAME:EET
DTSTART:20271031T010000
END:STANDARD
END:VTIMEZONE
BEGIN:VEVENT
DTSTART;VALUE=DATE:20261105
DTEND;VALUE=DATE:20261106
DTSTAMP:20260426T051812
CREATED:20251229T164406Z
LAST-MODIFIED:20260108T201543Z
UID:10000021-1793836800-1793923199@www.flottentermine.de
SUMMARY:FleetDating! München
DESCRIPTION:Das FleetDating! ist ein strukturiertes Business-Networking-Format für Entscheider und Verantwortliche aus dem Fuhrpark- und Mobilitätsmanagement sowie für ausgewählte Anbieter aus der Branche. Im Mittelpunkt stehen kompakte 1:1-Gespräche in festen Zeit-Slots\, die einen effizienten Austausch zu Produkten\, Dienstleistungen und aktuellen Marktentwicklungen ermöglichen. Ergänzt wird das Networking durch thematische Impulsvorträge\, Diskussionsrunden und Networking-Pausen\, die Raum für vertiefende Gespräche bieten.
URL:https://www.flottentermine.de/event/fleetdating-muenchen/
LOCATION:München\, München\, Germany
CATEGORIES:Präsenz
ATTACH;FMTTYPE=image/png:https://www.flottentermine.de/wp-content/uploads/2025/11/FleetDating_Logo_quadrat.png
ORGANIZER;CN="FleetDating!":MAILTO:events@flottentermine.de
GEO:48.1351253;11.5819806
END:VEVENT
BEGIN:VEVENT
DTSTART;TZID=Europe/Helsinki:20261105T090000
DTEND;TZID=Europe/Helsinki:20261105T130000
DTSTAMP:20260426T051812
CREATED:20260311T134934Z
LAST-MODIFIED:20260311T135257Z
UID:10000102-1793869200-1793883600@www.flottentermine.de
SUMMARY:Online Foren Abfall: Modul 3 - Zielgruppe Abfallerzeuger\, Gefahrgutbeauftragte\, Logistikdienstleister
DESCRIPTION:Das Online-Seminar Online Foren Abfall Modul 3 richtet sich an Fachkräfte aus Abfallwirtschaft\, Logistik und Compliance. Im Mittelpunkt stehen fachliche und rechtliche Aspekte rund um Abfallprozesse und deren praktische Umsetzung im betrieblichen Umfeld. \nDie Veranstaltung behandelt Themen aus dem Bereich Abfallmanagement und richtet sich insbesondere an Abfallerzeuger\, Gefahrgutbeauftragte sowie Logistikdienstleister. Ziel ist der fachliche Austausch zu aktuellen Anforderungen und organisatorischen Abläufen im Umgang mit Abfällen.
URL:https://www.flottentermine.de/event/online-foren-abfall-abfallerzeuger-2/
LOCATION:Online
CATEGORIES:Online
END:VEVENT
BEGIN:VEVENT
DTSTART;VALUE=DATE:20261106
DTEND;VALUE=DATE:20261108
DTSTAMP:20260426T051812
CREATED:20251229T165606Z
LAST-MODIFIED:20251229T165606Z
UID:10000032-1793923200-1794095999@www.flottentermine.de
SUMMARY:Europäische Taximesse Köln
DESCRIPTION:
URL:https://www.flottentermine.de/event/europaeische-taximesse-koeln/
LOCATION:Köln Messe\, Messeplatz 1\, Köln\, 50679\, Germany
CATEGORIES:Präsenz
GEO:50.9462151;6.9804824
X-APPLE-STRUCTURED-LOCATION;VALUE=URI;X-ADDRESS=Köln Messe Messeplatz 1 Köln 50679 Germany;X-APPLE-RADIUS=500;X-TITLE=Messeplatz 1:geo:6.9804824,50.9462151
END:VEVENT
BEGIN:VEVENT
DTSTART;TZID=Europe/Helsinki:20261118T090000
DTEND;TZID=Europe/Helsinki:20261118T170000
DTSTAMP:20260426T051812
CREATED:20260412T184236Z
LAST-MODIFIED:20260412T184236Z
UID:10000120-1794992400-1795021200@www.flottentermine.de
SUMMARY:Zero Emission Summit
DESCRIPTION:Der Zero Emission Summit ist eine Fachveranstaltung mit Fokus auf emissionsfreie Transport- und Logistiklösungen. Das Format richtet sich an Entscheider aus Fuhrpark\, Einkauf und Mobilitätsmanagement. \nIm Mittelpunkt stehen Strategien\, Technologien und Rahmenbedingungen für eine nachhaltige Transformation von Flotten und Lieferketten. Themen wie alternative Antriebe\, regulatorische Entwicklungen sowie betriebliche Umsetzungsmöglichkeiten werden im Kontext der Transport- und Logistikbranche behandelt. \nDer Zero Emission Summit bietet eine kompakte Übersicht aktueller Entwicklungen. Interessierte können sich über Inhalte und Teilnahmeoptionen auf der offiziellen Website informieren und den Termin vormerken.
URL:https://www.flottentermine.de/event/zero-emission-summit-infos/
LOCATION:Schaeffler Automotive Bühl GmbH & Co. KG\, Industriestr. 1-3\, Bühl\, 77815\, Germany
CATEGORIES:Präsenz
GEO:48.7044385;8.1244998
X-APPLE-STRUCTURED-LOCATION;VALUE=URI;X-ADDRESS=Schaeffler Automotive Bühl GmbH & Co. KG Industriestr. 1-3 Bühl 77815 Germany;X-APPLE-RADIUS=500;X-TITLE=Industriestr. 1-3:geo:8.1244998,48.7044385
END:VEVENT
BEGIN:VEVENT
DTSTART;VALUE=DATE:20261119
DTEND;VALUE=DATE:20261120
DTSTAMP:20260426T051812
CREATED:20251229T164436Z
LAST-MODIFIED:20260424T093556Z
UID:10000022-1795046400-1795132799@www.flottentermine.de
SUMMARY:FleetDating! Düsseldorf
DESCRIPTION:Das FleetDating! ist ein strukturiertes Business-Networking-Format für Entscheider und Verantwortliche aus dem Fuhrpark- und Mobilitätsmanagement sowie für ausgewählte Anbieter aus der Branche. Im Mittelpunkt stehen kompakte 1:1-Gespräche in festen Zeit-Slots\, die einen effizienten Austausch zu Produkten\, Dienstleistungen und aktuellen Marktentwicklungen ermöglichen. Ergänzt wird das Networking durch thematische Impulsvorträge\, Diskussionsrunden und Networking-Pausen\, die Raum für vertiefende Gespräche bieten. \nZur Event-Homepage \n 
URL:https://www.flottentermine.de/event/fleetdating-duesseldorf-2/
LOCATION:Düsseldorf\, Düsseldorf\, Germany
CATEGORIES:Präsenz
ATTACH;FMTTYPE=image/png:https://www.flottentermine.de/wp-content/uploads/2025/11/FleetDating_Logo_quadrat.png
ORGANIZER;CN="FleetDating!":MAILTO:events@flottentermine.de
GEO:51.2230411;6.7824545
END:VEVENT
END:VCALENDAR