BEGIN:VCALENDAR
VERSION:2.0
PRODID:-//Flottentermine - ECPv6.15.20//NONSGML v1.0//EN
CALSCALE:GREGORIAN
METHOD:PUBLISH
X-ORIGINAL-URL:https://www.flottentermine.de
X-WR-CALDESC:Veranstaltungen für Flottentermine
REFRESH-INTERVAL;VALUE=DURATION:PT1H
X-Robots-Tag:noindex
X-PUBLISHED-TTL:PT1H
BEGIN:VTIMEZONE
TZID:Europe/Helsinki
BEGIN:DAYLIGHT
TZOFFSETFROM:+0200
TZOFFSETTO:+0300
TZNAME:EEST
DTSTART:20250330T010000
END:DAYLIGHT
BEGIN:STANDARD
TZOFFSETFROM:+0300
TZOFFSETTO:+0200
TZNAME:EET
DTSTART:20251026T010000
END:STANDARD
BEGIN:DAYLIGHT
TZOFFSETFROM:+0200
TZOFFSETTO:+0300
TZNAME:EEST
DTSTART:20260329T010000
END:DAYLIGHT
BEGIN:STANDARD
TZOFFSETFROM:+0300
TZOFFSETTO:+0200
TZNAME:EET
DTSTART:20261025T010000
END:STANDARD
BEGIN:DAYLIGHT
TZOFFSETFROM:+0200
TZOFFSETTO:+0300
TZNAME:EEST
DTSTART:20270328T010000
END:DAYLIGHT
BEGIN:STANDARD
TZOFFSETFROM:+0300
TZOFFSETTO:+0200
TZNAME:EET
DTSTART:20271031T010000
END:STANDARD
END:VTIMEZONE
BEGIN:VEVENT
DTSTART;VALUE=DATE:20260826
DTEND;VALUE=DATE:20260827
DTSTAMP:20260426T005048
CREATED:20251229T165651Z
LAST-MODIFIED:20251229T165651Z
UID:10000033-1787702400-1787788799@www.flottentermine.de
SUMMARY:FORUM mobility & work - Wissen was bewegt.
DESCRIPTION:
URL:https://www.flottentermine.de/event/forum-mobility-work-wissen-was-bewegt/
LOCATION:ADAC-Fahrsicherheitszentrum Hannover\, Am Großen Fillbek 2\, Laatzen\, 30880\, Germany
CATEGORIES:Präsenz
GEO:51.165691;10.451526
X-APPLE-STRUCTURED-LOCATION;VALUE=URI;X-ADDRESS=ADAC-Fahrsicherheitszentrum Hannover Am Großen Fillbek 2 Laatzen 30880 Germany;X-APPLE-RADIUS=500;X-TITLE=Am Großen Fillbek 2:geo:10.451526,51.165691
END:VEVENT
END:VCALENDAR