BEGIN:VCALENDAR
VERSION:2.0
PRODID:-//Flottentermine - ECPv6.15.20//NONSGML v1.0//EN
CALSCALE:GREGORIAN
METHOD:PUBLISH
X-ORIGINAL-URL:https://www.flottentermine.de
X-WR-CALDESC:Veranstaltungen für Flottentermine
REFRESH-INTERVAL;VALUE=DURATION:PT1H
X-Robots-Tag:noindex
X-PUBLISHED-TTL:PT1H
BEGIN:VTIMEZONE
TZID:Europe/Helsinki
BEGIN:DAYLIGHT
TZOFFSETFROM:+0200
TZOFFSETTO:+0300
TZNAME:EEST
DTSTART:20250330T010000
END:DAYLIGHT
BEGIN:STANDARD
TZOFFSETFROM:+0300
TZOFFSETTO:+0200
TZNAME:EET
DTSTART:20251026T010000
END:STANDARD
BEGIN:DAYLIGHT
TZOFFSETFROM:+0200
TZOFFSETTO:+0300
TZNAME:EEST
DTSTART:20260329T010000
END:DAYLIGHT
BEGIN:STANDARD
TZOFFSETFROM:+0300
TZOFFSETTO:+0200
TZNAME:EET
DTSTART:20261025T010000
END:STANDARD
BEGIN:DAYLIGHT
TZOFFSETFROM:+0200
TZOFFSETTO:+0300
TZNAME:EEST
DTSTART:20270328T010000
END:DAYLIGHT
BEGIN:STANDARD
TZOFFSETFROM:+0300
TZOFFSETTO:+0200
TZNAME:EET
DTSTART:20271031T010000
END:STANDARD
END:VTIMEZONE
BEGIN:VEVENT
DTSTART;VALUE=DATE:20260609
DTEND;VALUE=DATE:20260729
DTSTAMP:20260425T233121
CREATED:20251229T165334Z
LAST-MODIFIED:20251229T165334Z
UID:10000030-1780963200-1785283199@www.flottentermine.de
SUMMARY:Electric & Hybrid Vehicles Technology Expo Europe
DESCRIPTION:
URL:https://www.flottentermine.de/event/electric-hybrid-vehicles-technology-expo-europe/
LOCATION:Messe Stuttgart\, Messepiazza 1\, Stuttgart\, 70629\, Germany
CATEGORIES:Präsenz
GEO:48.6949214;9.1828054
X-APPLE-STRUCTURED-LOCATION;VALUE=URI;X-ADDRESS=Messe Stuttgart Messepiazza 1 Stuttgart 70629 Germany;X-APPLE-RADIUS=500;X-TITLE=Messepiazza 1:geo:9.1828054,48.6949214
END:VEVENT
BEGIN:VEVENT
DTSTART;TZID=Europe/Helsinki:20260701T100000
DTEND;TZID=Europe/Helsinki:20260701T163000
DTSTAMP:20260425T233121
CREATED:20260316T164235Z
LAST-MODIFIED:20260316T164235Z
UID:10000114-1782900000-1782923400@www.flottentermine.de
SUMMARY:Transformation und Nachfolge im Unternehmen – Zukunft gestalten
DESCRIPTION:Das Seminar Transformation und Nachfolge im Unternehmen – Zukunft gestalten richtet sich an Führungskräfte und Entscheider\, die sich mit Unternehmenswandel und Nachfolgeprozessen befassen. \nIm Fokus stehen Strategien zur erfolgreichen Umsetzung von Transformationsprojekten sowie die Planung und Begleitung von Unternehmensnachfolgen. Teilnehmer erhalten praxisnahe Einblicke\, um strukturiert und zukunftsorientiert Veränderungen im Unternehmen zu gestalten.
URL:https://www.flottentermine.de/event/transformation-nachfolge-unternehmen/
LOCATION:LOXXESS Pharma GmbH\, Amberger Str. 1-3\, Geretsried-Gelting\, Bayern\, 82538\, Germany
CATEGORIES:Online,Präsenz
ORGANIZER;CN="Euro Transport Media":MAILTO:veranstaltung@etm.de
GEO:47.8858087;11.4435978
X-APPLE-STRUCTURED-LOCATION;VALUE=URI;X-ADDRESS=LOXXESS Pharma GmbH Amberger Str. 1-3 Geretsried-Gelting Bayern 82538 Germany;X-APPLE-RADIUS=500;X-TITLE=Amberger Str. 1-3:geo:11.4435978,47.8858087
END:VEVENT
BEGIN:VEVENT
DTSTART;VALUE=DATE:20260715
DTEND;VALUE=DATE:20260717
DTSTAMP:20260425T233121
CREATED:20251229T171218Z
LAST-MODIFIED:20251229T171218Z
UID:10000048-1784073600-1784246399@www.flottentermine.de
SUMMARY:Weiterbildung: zum zertifizierten Mobilitätsmanager - Modul 5 "Mobilitätsmanagement in der Praxis"
DESCRIPTION:
URL:https://www.flottentermine.de/event/weiterbildung-zum-zertifizierten-mobilitaetsmanager-modul-5-mobilitaetsmanagement-in-der-praxis/
LOCATION:Mannheim
CATEGORIES:Präsenz
END:VEVENT
BEGIN:VEVENT
DTSTART;VALUE=DATE:20260727
DTEND;VALUE=DATE:20260728
DTSTAMP:20260425T233121
CREATED:20251229T165023Z
LAST-MODIFIED:20251229T165023Z
UID:10000026-1785110400-1785196799@www.flottentermine.de
SUMMARY:Automotive Business Days - Der Treffpunkt für Automobilvertrieb und -service in der digitalen Mobilitätswelt
DESCRIPTION:
URL:https://www.flottentermine.de/event/automotive-business-days-der-treffpunkt-fuer-automobilvertrieb-und-service-in-der-digitalen-mobilitaetswelt/
LOCATION:VCC Vogel Convention Center\, Max-Planck-Str. 7\, Würzburg\, 97082\, Germany
CATEGORIES:Präsenz
GEO:49.7970754;9.9007396
X-APPLE-STRUCTURED-LOCATION;VALUE=URI;X-ADDRESS=VCC Vogel Convention Center Max-Planck-Str. 7 Würzburg 97082 Germany;X-APPLE-RADIUS=500;X-TITLE=Max-Planck-Str. 7:geo:9.9007396,49.7970754
END:VEVENT
END:VCALENDAR