BEGIN:VCALENDAR
VERSION:2.0
PRODID:-//Flottentermine - ECPv6.15.20//NONSGML v1.0//EN
CALSCALE:GREGORIAN
METHOD:PUBLISH
X-ORIGINAL-URL:https://www.flottentermine.de
X-WR-CALDESC:Veranstaltungen für Flottentermine
REFRESH-INTERVAL;VALUE=DURATION:PT1H
X-Robots-Tag:noindex
X-PUBLISHED-TTL:PT1H
BEGIN:VTIMEZONE
TZID:Europe/Helsinki
BEGIN:DAYLIGHT
TZOFFSETFROM:+0200
TZOFFSETTO:+0300
TZNAME:EEST
DTSTART:20250330T010000
END:DAYLIGHT
BEGIN:STANDARD
TZOFFSETFROM:+0300
TZOFFSETTO:+0200
TZNAME:EET
DTSTART:20251026T010000
END:STANDARD
BEGIN:DAYLIGHT
TZOFFSETFROM:+0200
TZOFFSETTO:+0300
TZNAME:EEST
DTSTART:20260329T010000
END:DAYLIGHT
BEGIN:STANDARD
TZOFFSETFROM:+0300
TZOFFSETTO:+0200
TZNAME:EET
DTSTART:20261025T010000
END:STANDARD
BEGIN:DAYLIGHT
TZOFFSETFROM:+0200
TZOFFSETTO:+0300
TZNAME:EEST
DTSTART:20270328T010000
END:DAYLIGHT
BEGIN:STANDARD
TZOFFSETFROM:+0300
TZOFFSETTO:+0200
TZNAME:EET
DTSTART:20271031T010000
END:STANDARD
END:VTIMEZONE
BEGIN:VEVENT
DTSTART;VALUE=DATE:20260609
DTEND;VALUE=DATE:20260612
DTSTAMP:20260425T220433
CREATED:20260413T130716Z
LAST-MODIFIED:20260413T130716Z
UID:10000122-1780963200-1781222399@www.flottentermine.de
SUMMARY:THE TIRE COLOGNE
DESCRIPTION:THE TIRE COLOGNE ist eine internationale Fachmesse rund um die Reifenbranche und angrenzende Mobilitätslösungen in Köln. Die Veranstaltung richtet sich an Fachbesucher aus Industrie\, Handel und Flottenmanagement. \nIm Fokus stehen Produkte\, Technologien und Dienstleistungen entlang der gesamten Wertschöpfungskette\, von Reifen über Werkstattausrüstung bis hin zu digitalen Lösungen für Mobilität und Fuhrparks. THE TIRE COLOGNE bietet damit einen Überblick über aktuelle Entwicklungen und Markttrends der Branche. \nInteressierte können sich frühzeitig über Programm und Teilnahmeoptionen informieren und den Termin entsprechend einplanen.
URL:https://www.flottentermine.de/event/the-tire-cologne-messe-termin/
LOCATION:Köln Messe\, Messeplatz 1\, Köln\, 50679\, Germany
CATEGORIES:Präsenz
GEO:50.9462151;6.9804824
X-APPLE-STRUCTURED-LOCATION;VALUE=URI;X-ADDRESS=Köln Messe Messeplatz 1 Köln 50679 Germany;X-APPLE-RADIUS=500;X-TITLE=Messeplatz 1:geo:6.9804824,50.9462151
END:VEVENT
BEGIN:VEVENT
DTSTART;VALUE=DATE:20260609
DTEND;VALUE=DATE:20260729
DTSTAMP:20260425T220433
CREATED:20251229T165334Z
LAST-MODIFIED:20251229T165334Z
UID:10000030-1780963200-1785283199@www.flottentermine.de
SUMMARY:Electric & Hybrid Vehicles Technology Expo Europe
DESCRIPTION:
URL:https://www.flottentermine.de/event/electric-hybrid-vehicles-technology-expo-europe/
LOCATION:Messe Stuttgart\, Messepiazza 1\, Stuttgart\, 70629\, Germany
CATEGORIES:Präsenz
GEO:48.6949214;9.1828054
X-APPLE-STRUCTURED-LOCATION;VALUE=URI;X-ADDRESS=Messe Stuttgart Messepiazza 1 Stuttgart 70629 Germany;X-APPLE-RADIUS=500;X-TITLE=Messepiazza 1:geo:9.1828054,48.6949214
END:VEVENT
BEGIN:VEVENT
DTSTART;TZID=Europe/Helsinki:20260609T100000
DTEND;TZID=Europe/Helsinki:20260609T113000
DTSTAMP:20260425T220433
CREATED:20260311T131035Z
LAST-MODIFIED:20260311T131035Z
UID:10000094-1780999200-1781004600@www.flottentermine.de
SUMMARY:Gefahrgut-Sprechstunde
DESCRIPTION:Die Gefahrgut-Sprechstunde ist ein Online-Seminar mit Fokus auf Fragen rund um den Transport gefährlicher Güter. Die Veranstaltung richtet sich an Verantwortliche aus Logistik\, Transport und Fuhrparkmanagement\, die sich mit aktuellen Anforderungen im Gefahrgutrecht befassen. \nIm Rahmen der Gefahrgut-Sprechstunde können Teilnehmende praxisbezogene Fragestellungen einbringen und fachliche Einschätzungen zu rechtlichen und organisatorischen Themen erhalten. Inhalte beziehen sich auf den Umgang mit Gefahrgut im Transportalltag.
URL:https://www.flottentermine.de/event/gefahrgut-sprechstunde-termin-infos/
LOCATION:Online
CATEGORIES:Online
END:VEVENT
BEGIN:VEVENT
DTSTART;VALUE=DATE:20260610
DTEND;VALUE=DATE:20260612
DTSTAMP:20260425T220433
CREATED:20251229T171314Z
LAST-MODIFIED:20251229T171314Z
UID:10000049-1781049600-1781222399@www.flottentermine.de
SUMMARY:Weiterbildung: zum zertifizierten Mobilitätsmanager - Modul 4 "Rechtliche Aspekte des Mobilitätsmanagements"
DESCRIPTION:
URL:https://www.flottentermine.de/event/weiterbildung-zum-zertifizierten-mobilitaetsmanager-modul-4-rechtliche-aspekte-des-mobilitaetsmanagements/
LOCATION:Online
CATEGORIES:Online
END:VEVENT
BEGIN:VEVENT
DTSTART;TZID=Europe/Helsinki:20260610T100000
DTEND;TZID=Europe/Helsinki:20260610T163000
DTSTAMP:20260425T220433
CREATED:20260316T163636Z
LAST-MODIFIED:20260316T163636Z
UID:10000113-1781085600-1781109000@www.flottentermine.de
SUMMARY:Mehr drin fürs Ergebnis: Kosten sparen und Kunden überzeugen
DESCRIPTION:Dieses Seminar richtet sich an Fach- und Führungskräfte der Fuhrparkbranche und fokussiert auf praxisnahe Ansätze zur Effizienzsteigerung. \nIm Mittelpunkt von Mehr drin fürs Ergebnis: Kosten sparen und Kunden überzeugen stehen Strategien zur Reduzierung von Kosten sowie Maßnahmen\, um Kundenbedürfnisse gezielt zu erfüllen. Teilnehmer erhalten Einblicke in wirtschaftliche Optimierungen und Ansätze\, um Prozesse im Fuhrpark nachhaltiger zu gestalten.
URL:https://www.flottentermine.de/event/kosten-sparen-und-kunden-ueberzeugen/
LOCATION:Köln Messe\, Messeplatz 1\, Köln\, 50679\, Germany
CATEGORIES:Online,Präsenz
ORGANIZER;CN="Euro Transport Media":MAILTO:veranstaltung@etm.de
GEO:50.9462151;6.9804824
X-APPLE-STRUCTURED-LOCATION;VALUE=URI;X-ADDRESS=Köln Messe Messeplatz 1 Köln 50679 Germany;X-APPLE-RADIUS=500;X-TITLE=Messeplatz 1:geo:6.9804824,50.9462151
END:VEVENT
BEGIN:VEVENT
DTSTART;VALUE=DATE:20260617
DTEND;VALUE=DATE:20260618
DTSTAMP:20260425T220433
CREATED:20260308T160533Z
LAST-MODIFIED:20260308T161702Z
UID:10000080-1781654400-1781740799@www.flottentermine.de
SUMMARY:ATU Fuhrpark-Treff Dortmund
DESCRIPTION:Der ATU Fuhrpark-Treff ist eine Branchenveranstaltung für Fach- und Führungskräfte aus dem Fuhrparkmanagement. Das Format bietet Gelegenheit zum Austausch über aktuelle Entwicklungen im Flotten- und Mobilitätsumfeld. \nIm Mittelpunkt stehen praxisnahe Themen rund um den Betrieb und die Organisation von Unternehmensfuhrparks sowie der Dialog zwischen Fuhrparkverantwortlichen und Branchenpartnern. Die Veranstaltung dient als Plattform für Information und Erfahrungsaustausch im Rahmen des ATU Fuhrpark-Treff.
URL:https://www.flottentermine.de/event/atu-fuhrpark-treff-branchentermin-2/
LOCATION:Signal Iduna Park\, Strobelallee 50\, Dortmund\, Nordrhein-Westfalen\, 44139\, Germany
CATEGORIES:Präsenz
GEO:51.4925888;7.4518574
X-APPLE-STRUCTURED-LOCATION;VALUE=URI;X-ADDRESS=Signal Iduna Park Strobelallee 50 Dortmund Nordrhein-Westfalen 44139 Germany;X-APPLE-RADIUS=500;X-TITLE=Strobelallee 50:geo:7.4518574,51.4925888
END:VEVENT
BEGIN:VEVENT
DTSTART;VALUE=DATE:20260618
DTEND;VALUE=DATE:20260619
DTSTAMP:20260425T220434
CREATED:20251229T164226Z
LAST-MODIFIED:20260409T110351Z
UID:10000020-1781740800-1781827199@www.flottentermine.de
SUMMARY:FleetDating! Düsseldorf
DESCRIPTION:Das FleetDating! ist ein strukturiertes Business-Networking-Format für Entscheider und Verantwortliche aus dem Fuhrpark- und Mobilitätsmanagement sowie für ausgewählte Anbieter aus der Branche. Im Mittelpunkt stehen kompakte 1:1-Gespräche in festen Zeit-Slots\, die einen effizienten Austausch zu Produkten\, Dienstleistungen und aktuellen Marktentwicklungen ermöglichen. Ergänzt wird das Networking durch thematische Impulsvorträge\, Diskussionsrunden und Networking-Pausen\, die Raum für vertiefende Gespräche bieten. \nZur Event-Homepage \n 
URL:https://www.flottentermine.de/event/fleetdating-duesseldorf/
LOCATION:Düsseldorf\, Düsseldorf\, Germany
CATEGORIES:Präsenz
ATTACH;FMTTYPE=image/jpeg:https://www.flottentermine.de/wp-content/uploads/2025/12/logo_event_fleetdating.jpg
ORGANIZER;CN="FleetDating!":MAILTO:events@flottentermine.de
GEO:51.2230411;6.7824545
END:VEVENT
BEGIN:VEVENT
DTSTART;VALUE=DATE:20260623
DTEND;VALUE=DATE:20260626
DTSTAMP:20260425T220434
CREATED:20251229T170350Z
LAST-MODIFIED:20260316T105105Z
UID:10000039-1782172800-1782431999@www.flottentermine.de
SUMMARY:Power2Drive Europe – Die internationale Fachmesse für Ladeinfrastruktur und Elektromobilität
DESCRIPTION:Die Power2Drive Europe ist eine internationale Fachmesse für Ladeinfrastruktur und Elektromobilität. Die Veranstaltung richtet sich an Unternehmen und Fachbesucher aus den Bereichen Mobilität\, Energie und Infrastruktur. \nIm Fokus stehen Technologien\, Lösungen und Geschäftsmodelle rund um Elektrofahrzeuge\, Ladesysteme und Mobilitätsdienstleistungen. Hersteller\, Anbieter und Branchenakteure präsentieren Entwicklungen zur Integration von Elektromobilität und Energieversorgung. Die Messe ist Teil der europäischen Energiefachmesse-Plattform The smarter E Europe.  \nWeitere Informationen zur Veranstaltung sowie Details zur Teilnahme können auf der offiziellen Eventseite eingesehen werden.
URL:https://www.flottentermine.de/event/power2drive/
LOCATION:Messe München\, Am Messesee 2\, München\, 81829\, Germany
CATEGORIES:Präsenz
GEO:48.13535;11.69263
X-APPLE-STRUCTURED-LOCATION;VALUE=URI;X-ADDRESS=Messe München Am Messesee 2 München 81829 Germany;X-APPLE-RADIUS=500;X-TITLE=Am Messesee 2:geo:11.69263,48.13535
END:VEVENT
BEGIN:VEVENT
DTSTART;VALUE=DATE:20260624
DTEND;VALUE=DATE:20260626
DTSTAMP:20260425T220434
CREATED:20260109T143602Z
LAST-MODIFIED:20260320T201751Z
UID:10000058-1782259200-1782431999@www.flottentermine.de
SUMMARY:Expertenkonferenz\, BBM
DESCRIPTION:Die Expertenkonferenz Fuhrparkmanagement 2026 ist eine Fachkonferenz des Bundesverbandes Betriebliche Mobilität e.V. (BBM) und findet vom 24. bis 25. Juni 2026 in Göttingen statt. Die Präsenzveranstaltung richtet sich an Fuhrparkverantwortliche und Mobilitätsentscheider und behandelt zentrale Themen wie Digitalisierung\, Nachhaltigkeit\, strategische Weiterentwicklung von Fuhrparkstrukturen und praktische Aspekte des modernen Fuhrparkmanagements im Unternehmensumfeld. Termin\, Programm und Teilnahmebedingungen sind online einsehbar. Termin vormerken und Details ansehen.
URL:https://www.flottentermine.de/event/expertenkonferenz-bbm/
LOCATION:Freizeit In Göttingen\, Dransfelder Straße 3\, Göttingen\, 37079\, Germany
CATEGORIES:Präsenz
GEO:51.165691;10.451526
X-APPLE-STRUCTURED-LOCATION;VALUE=URI;X-ADDRESS=Freizeit In Göttingen Dransfelder Straße 3 Göttingen 37079 Germany;X-APPLE-RADIUS=500;X-TITLE=Dransfelder Straße 3:geo:10.451526,51.165691
END:VEVENT
BEGIN:VEVENT
DTSTART;VALUE=DATE:20260624
DTEND;VALUE=DATE:20260628
DTSTAMP:20260425T220434
CREATED:20251229T165513Z
LAST-MODIFIED:20251229T165513Z
UID:10000031-1782259200-1782604799@www.flottentermine.de
SUMMARY:Eurobike
DESCRIPTION:
URL:https://www.flottentermine.de/event/eurobike/
LOCATION:Messe Frankfurt am Main\, Frankfurt am Main\, Germany
CATEGORIES:Präsenz
GEO:50.1109221;8.6821267
END:VEVENT
BEGIN:VEVENT
DTSTART;TZID=Europe/Helsinki:20260624T110000
DTEND;TZID=Europe/Helsinki:20260624T113000
DTSTAMP:20260425T220434
CREATED:20260424T093119Z
LAST-MODIFIED:20260424T093119Z
UID:10000124-1782298800-1782300600@www.flottentermine.de
SUMMARY:Rundum sicher: Alles zur UVV-Prüfung Ihrer Firmenfahrzeuge
DESCRIPTION:Das Webinar UVV Prüfung Firmenfahrzeuge richtet sich an Verantwortliche im Fuhrpark und behandelt grundlegende Anforderungen an die Sicherheit von Dienstfahrzeugen. \nIm Mittelpunkt stehen gesetzliche Vorgaben\, Prüfpflichten sowie organisatorische Abläufe rund um die Durchführung von UVV-Prüfungen. Zudem werden relevante Aspekte zur Dokumentation und zur Einbindung in bestehende Fuhrparkprozesse aufgezeigt. \nDie Veranstaltung bietet eine kompakte Orientierung für den sicheren und regelkonformen Betrieb von Firmenfahrzeugen. Termin vormerken und weitere Details auf der Eventseite einsehen. \nZur Event-Homepage
URL:https://www.flottentermine.de/event/rundum-sicher-alles-zur-uvv-pruefung-ihrer-firmenfahrzeuge/
LOCATION:Online
CATEGORIES:Online
ORGANIZER;CN="Shiftmove GmbH":MAILTO:contact@shiftmove.com
END:VEVENT
END:VCALENDAR