BEGIN:VCALENDAR
VERSION:2.0
PRODID:-//Flottentermine - ECPv6.15.20//NONSGML v1.0//EN
CALSCALE:GREGORIAN
METHOD:PUBLISH
X-WR-CALNAME:Flottentermine
X-ORIGINAL-URL:https://www.flottentermine.de
X-WR-CALDESC:Veranstaltungen für Flottentermine
REFRESH-INTERVAL;VALUE=DURATION:PT1H
X-Robots-Tag:noindex
X-PUBLISHED-TTL:PT1H
BEGIN:VTIMEZONE
TZID:Europe/Helsinki
BEGIN:DAYLIGHT
TZOFFSETFROM:+0200
TZOFFSETTO:+0300
TZNAME:EEST
DTSTART:20250330T010000
END:DAYLIGHT
BEGIN:STANDARD
TZOFFSETFROM:+0300
TZOFFSETTO:+0200
TZNAME:EET
DTSTART:20251026T010000
END:STANDARD
BEGIN:DAYLIGHT
TZOFFSETFROM:+0200
TZOFFSETTO:+0300
TZNAME:EEST
DTSTART:20260329T010000
END:DAYLIGHT
BEGIN:STANDARD
TZOFFSETFROM:+0300
TZOFFSETTO:+0200
TZNAME:EET
DTSTART:20261025T010000
END:STANDARD
BEGIN:DAYLIGHT
TZOFFSETFROM:+0200
TZOFFSETTO:+0300
TZNAME:EEST
DTSTART:20270328T010000
END:DAYLIGHT
BEGIN:STANDARD
TZOFFSETFROM:+0300
TZOFFSETTO:+0200
TZNAME:EET
DTSTART:20271031T010000
END:STANDARD
END:VTIMEZONE
BEGIN:VEVENT
DTSTART;VALUE=DATE:20260504
DTEND;VALUE=DATE:20260506
DTSTAMP:20260425T204009
CREATED:20251229T164613Z
LAST-MODIFIED:20251229T164613Z
UID:10000023-1777852800-1778025599@www.flottentermine.de
SUMMARY:4. Automotive Masterminds
DESCRIPTION:
URL:https://www.flottentermine.de/event/4-automotive-masterminds/
LOCATION:Estrel Congress Center\, Sonnenallee 225\, Berlin\, 12057\, Germany
CATEGORIES:Präsenz
GEO:52.4738429;13.4591883
X-APPLE-STRUCTURED-LOCATION;VALUE=URI;X-ADDRESS=Estrel Congress Center Sonnenallee 225 Berlin 12057 Germany;X-APPLE-RADIUS=500;X-TITLE=Sonnenallee 225:geo:13.4591883,52.4738429
END:VEVENT
BEGIN:VEVENT
DTSTART;TZID=Europe/Helsinki:20260505T090000
DTEND;TZID=Europe/Helsinki:20260505T130000
DTSTAMP:20260425T204009
CREATED:20260311T124447Z
LAST-MODIFIED:20260311T124447Z
UID:10000092-1777971600-1777986000@www.flottentermine.de
SUMMARY:Versand & Lagerung von Lithiumbatterien
DESCRIPTION:Das Online-Forum Versand & Lagerung von Lithiumbatterien behandelt Anforderungen rund um den sicheren Umgang mit Lithiumbatterien im Transport- und Logistikumfeld. \nIm Mittelpunkt stehen rechtliche Vorgaben\, praktische Herausforderungen sowie organisatorische Maßnahmen bei Versand und Lagerung. Die Veranstaltung richtet sich an Verantwortliche aus Logistik\, Transport und Fuhrpark\, die mit entsprechenden Gefahrgutprozessen befasst sind. \nDas Online-Forum Versand & Lagerung von Lithiumbatterien bietet eine kompakte Übersicht zum Thema.
URL:https://www.flottentermine.de/event/versand-lagerung-von-lithiumbatterien/
LOCATION:Online
CATEGORIES:Online
END:VEVENT
BEGIN:VEVENT
DTSTART;TZID=Europe/Helsinki:20260506T090000
DTEND;TZID=Europe/Helsinki:20260506T160000
DTSTAMP:20260425T204009
CREATED:20260109T143703Z
LAST-MODIFIED:20260312T105423Z
UID:10000060-1778058000-1778083200@www.flottentermine.de
SUMMARY:BBM Lokal Berlin - Impulse für betriebliche Mobilität
DESCRIPTION:BBM Lokal Berlin ist ein eintägiges Präsenzformat des Bundesverbands Betriebliche Mobilität für Fachleute aus Fuhrpark- und Mobilitätsmanagement. Beim BBM Lokal Berlin stehen praxisnaher Erfahrungsaustausch\, Wissenstransfer und regionale Vernetzung zu aktuellen Themen wie Leasing\, Rechts- und Steuerfragen\, Mobilitätsmanagement sowie Best Practices im Vordergrund. Teilnehmende können flexibel ganztägig oder tageweise teilnehmen. Weitere Informationen und Terminangaben sind auf der Veranstaltungsseite verfügbar.
URL:https://www.flottentermine.de/event/bbm-lokal-berlin/
LOCATION:Shiftmove GmbH\, Warschauer Straße 57\, Berlin\, 10243\, Germany
CATEGORIES:Präsenz
GEO:52.5200066;13.404954
X-APPLE-STRUCTURED-LOCATION;VALUE=URI;X-ADDRESS=Shiftmove GmbH Warschauer Straße 57 Berlin 10243 Germany;X-APPLE-RADIUS=500;X-TITLE=Warschauer Straße 57:geo:13.404954,52.5200066
END:VEVENT
BEGIN:VEVENT
DTSTART;TZID=Europe/Helsinki:20260506T110000
DTEND;TZID=Europe/Helsinki:20260506T113000
DTSTAMP:20260425T204009
CREATED:20260424T091912Z
LAST-MODIFIED:20260424T092727Z
UID:10000123-1778065200-1778067000@www.flottentermine.de
SUMMARY:Car Policy - Tipps und Tricks für Ihren Fuhrpark
DESCRIPTION:Das Webinar Car Policy Tipps Fuhrpark richtet sich an Verantwortliche im Flottenmanagement und behandelt zentrale Aspekte der Gestaltung einer Car Policy. \nIm Fokus stehen grundlegende Fragestellungen rund um Richtlinien im Fuhrpark sowie praxisnahe Hinweise zur Strukturierung und Umsetzung. Thematisiert werden unter anderem Rahmenbedingungen\, Regelungsinhalte und organisatorische Ansätze im Umgang mit Dienstfahrzeugen und Mobilitätslösungen. \nDie Veranstaltung bietet eine kompakte Übersicht für Fuhrparkverantwortliche\, die sich mit der Weiterentwicklung ihrer Car Policy befassen. Termin vormerken und weitere Details auf der Eventseite einsehen. \nZur Event-Homepage
URL:https://www.flottentermine.de/event/car-policy-tipps-und-tricks-fuer-ihren-fuhrpark/
LOCATION:Online
CATEGORIES:Online
ORGANIZER;CN="Shiftmove GmbH":MAILTO:contact@shiftmove.com
END:VEVENT
BEGIN:VEVENT
DTSTART;VALUE=DATE:20260512
DTEND;VALUE=DATE:20260513
DTSTAMP:20260425T204009
CREATED:20251229T165211Z
LAST-MODIFIED:20251229T165211Z
UID:10000028-1778544000-1778630399@www.flottentermine.de
SUMMARY:CMxC - Corporate Mobility Conference
DESCRIPTION:
URL:https://www.flottentermine.de/event/cmxc-corporate-mobility-conference/
LOCATION:München\, München\, Germany
CATEGORIES:Präsenz
GEO:48.1351253;11.5819806
END:VEVENT
BEGIN:VEVENT
DTSTART;VALUE=DATE:20260512
DTEND;VALUE=DATE:20260513
DTSTAMP:20260425T204009
CREATED:20251229T171140Z
LAST-MODIFIED:20251229T171140Z
UID:10000047-1778544000-1778630399@www.flottentermine.de
SUMMARY:Weiterbildung: zum zertifizierten Mobilitätsmanager - Modul 3 "Mobilitätsbudget"
DESCRIPTION:
URL:https://www.flottentermine.de/event/weiterbildung-zum-zertifizierten-mobilitaetsmanager-modul-3-mobilitaetsbudget/
LOCATION:Freizeit In Göttingen\, Dransfelder Straße 3\, Göttingen\, 37079\, Germany
CATEGORIES:Präsenz
GEO:51.165691;10.451526
X-APPLE-STRUCTURED-LOCATION;VALUE=URI;X-ADDRESS=Freizeit In Göttingen Dransfelder Straße 3 Göttingen 37079 Germany;X-APPLE-RADIUS=500;X-TITLE=Dransfelder Straße 3:geo:10.451526,51.165691
END:VEVENT
BEGIN:VEVENT
DTSTART;TZID=Europe/Helsinki:20260512T100000
DTEND;TZID=Europe/Helsinki:20260512T113000
DTSTAMP:20260425T204009
CREATED:20260311T124752Z
LAST-MODIFIED:20260311T124752Z
UID:10000093-1778580000-1778585400@www.flottentermine.de
SUMMARY:Gefahrgut bei multimodalen Transporten
DESCRIPTION:Das Online-Seminar Gefahrgut bei multimodalen Transporten behandelt rechtliche und organisatorische Anforderungen beim Transport gefährlicher Güter über mehrere Verkehrsträger. \nIm Mittelpunkt stehen Grundlagen und praktische Aspekte im Umgang mit Gefahrgut bei multimodalen Transporten sowie relevante Vorschriften und Schnittstellen zwischen verschiedenen Transportformen. Die Veranstaltung richtet sich an Verantwortliche aus Logistik\, Transport und Fuhrparkmanagement. \nDer Termin bietet eine kompakte Übersicht zu aktuellen Anforderungen.
URL:https://www.flottentermine.de/event/gefahrgut-multimodale-transporte/
LOCATION:Online
CATEGORIES:Online
END:VEVENT
BEGIN:VEVENT
DTSTART;TZID=Europe/Helsinki:20260520T080000
DTEND;TZID=Europe/Helsinki:20260520T170000
DTSTAMP:20260425T204009
CREATED:20260202T112128Z
LAST-MODIFIED:20260202T112128Z
UID:10000067-1779264000-1779296400@www.flottentermine.de
SUMMARY:firmenauto test drive in Herzogenaurach
DESCRIPTION:firmenauto test drive geht 2026 mit acht Terminen bundesweit an den Start und richtet sich an Fuhrparkverantwortliche\, die aktuelle Fahrzeugmodelle direkt vergleichen und testen möchten. Bei den ganztägigen Test-Events haben Teilnehmer Gelegenheit\, zahlreiche Modelle ausführlich zu fahren\, Hersteller direkt zu treffen und sich in Vorträgen zu Themen wie Elektromobilität und Digitalisierung zu informieren. \nDie Test-Drive-Serie findet u. a. in Stuttgart\, Unna\, Maintal\, Herzogenaurach\, Heiligenhaus\, Schkeuditz\, Taufkirchen und Hannover statt und bietet eine praxisnahe Plattform für Fahrzeugtests\, Networking und fachlichen Austausch – kostenlos für Fuhrparkentscheider (Anmeldung erforderlich). \n\n\n16. April 2026: Stuttgart\n22. April 2026: Unna (bei Dortmund)\n28. April 2026: Maintal (bei Frankfurt)\n5. Mai 2026: Herzogenaurach\n8. Oktober 2026: Heiligenhaus (bei Neuss)\n14. Oktober 2026: Schkeuditz\n21. Oktober 2026: Taufkirchen (Raum München)\n27. Oktober 2026: Hannover
URL:https://www.flottentermine.de/event/firmenauto-test-drive-in-herzogenaurach/
LOCATION:Novina Hotel Herzog-Base\, Olympiaring 90\, Herzogenaurach\, 91074\, Germany
CATEGORIES:Präsenz
ATTACH;FMTTYPE=image/png:https://www.flottentermine.de/wp-content/uploads/2026/02/firmenauto_2026-1.png
ORGANIZER;CN="EuroTransportMedia Verlags- und Veranstaltungs-GmbH":MAILTO:veranstaltung@etm.de
GEO:49.5798097;10.9101938
X-APPLE-STRUCTURED-LOCATION;VALUE=URI;X-ADDRESS=Novina Hotel Herzog-Base Olympiaring 90 Herzogenaurach 91074 Germany;X-APPLE-RADIUS=500;X-TITLE=Olympiaring 90:geo:10.9101938,49.5798097
END:VEVENT
BEGIN:VEVENT
DTSTART;TZID=Europe/Helsinki:20260521T090000
DTEND;TZID=Europe/Helsinki:20260521T160000
DTSTAMP:20260425T204009
CREATED:20260109T143512Z
LAST-MODIFIED:20260312T105137Z
UID:10000057-1779354000-1779379200@www.flottentermine.de
SUMMARY:BBM Lokal Stuttgart - Impulse für betriebliche Mobilität
DESCRIPTION:BBM Lokal Stuttgart ist ein eintägiges Präsenzformat des Bundesverbands Betriebliche Mobilität e.V. für Fuhrpark- und Mobilitätsverantwortliche\, das Wissenstransfer\, Erfahrungsaustausch und Networking kombiniert. Im Rahmen von BBM Lokal Stuttgart stehen praxisnahe Programmpunkte wie Erfahrungsaustausch\, Dialogrunden\, Impulsvorträge und Workshops im Fokus. Das Event richtet sich an Fach- und Führungskräfte im Fuhrpark- und Mobilitätsmanagement und bietet eine Orientierung zu aktuellen Themen und Vernetzungsmöglichkeiten\, Details zum Ablauf und zur Teilnahme sind auf der Veranstaltungsseite verfügbar.
URL:https://www.flottentermine.de/event/bbm-lokal-stuttgart/
LOCATION:Innovation Group Fleet & Mobility GmbH\, Rotebühlstraße 121\, Stuttgart\, 70178\, Germany
CATEGORIES:Präsenz
GEO:48.7758459;9.1829321
X-APPLE-STRUCTURED-LOCATION;VALUE=URI;X-ADDRESS=Innovation Group Fleet & Mobility GmbH Rotebühlstraße 121 Stuttgart 70178 Germany;X-APPLE-RADIUS=500;X-TITLE=Rotebühlstraße 121:geo:9.1829321,48.7758459
END:VEVENT
BEGIN:VEVENT
DTSTART;VALUE=DATE:20260531
DTEND;VALUE=DATE:20260601
DTSTAMP:20260425T204009
CREATED:20251229T165846Z
LAST-MODIFIED:20251229T165846Z
UID:10000034-1780185600-1780271999@www.flottentermine.de
SUMMARY:Frankfurter Automobilausstellung
DESCRIPTION:
URL:https://www.flottentermine.de/event/frankfurter-automobilausstellung/
LOCATION:Klassikstadt\, Orber Str. 4a\, Frankfurt am Main\, 60386\, Germany
CATEGORIES:Präsenz
GEO:50.1319436;8.7553062
X-APPLE-STRUCTURED-LOCATION;VALUE=URI;X-ADDRESS=Klassikstadt Orber Str. 4a Frankfurt am Main 60386 Germany;X-APPLE-RADIUS=500;X-TITLE=Orber Str. 4a:geo:8.7553062,50.1319436
END:VEVENT
END:VCALENDAR