BEGIN:VCALENDAR
VERSION:2.0
PRODID:-//Flottentermine - ECPv6.15.20//NONSGML v1.0//EN
CALSCALE:GREGORIAN
METHOD:PUBLISH
X-ORIGINAL-URL:https://www.flottentermine.de
X-WR-CALDESC:Veranstaltungen für Flottentermine
REFRESH-INTERVAL;VALUE=DURATION:PT1H
X-Robots-Tag:noindex
X-PUBLISHED-TTL:PT1H
BEGIN:VTIMEZONE
TZID:Europe/Helsinki
BEGIN:DAYLIGHT
TZOFFSETFROM:+0200
TZOFFSETTO:+0300
TZNAME:EEST
DTSTART:20250330T010000
END:DAYLIGHT
BEGIN:STANDARD
TZOFFSETFROM:+0300
TZOFFSETTO:+0200
TZNAME:EET
DTSTART:20251026T010000
END:STANDARD
BEGIN:DAYLIGHT
TZOFFSETFROM:+0200
TZOFFSETTO:+0300
TZNAME:EEST
DTSTART:20260329T010000
END:DAYLIGHT
BEGIN:STANDARD
TZOFFSETFROM:+0300
TZOFFSETTO:+0200
TZNAME:EET
DTSTART:20261025T010000
END:STANDARD
BEGIN:DAYLIGHT
TZOFFSETFROM:+0200
TZOFFSETTO:+0300
TZNAME:EEST
DTSTART:20270328T010000
END:DAYLIGHT
BEGIN:STANDARD
TZOFFSETFROM:+0300
TZOFFSETTO:+0200
TZNAME:EET
DTSTART:20271031T010000
END:STANDARD
END:VTIMEZONE
BEGIN:VEVENT
DTSTART;VALUE=DATE:20260130
DTEND;VALUE=DATE:20260202
DTSTAMP:20260425T220706
CREATED:20251229T170843Z
LAST-MODIFIED:20251229T170843Z
UID:10000044-1769731200-1769990399@www.flottentermine.de
SUMMARY:Volt E-Mobilität - Future Mobility Messe
DESCRIPTION:
URL:https://www.flottentermine.de/event/volt-e-mobilitaet-future-mobility-messe/
LOCATION:Messe Augsburg\, Am Messezentrum 5\, Augsburg\, 86159\, Germany
CATEGORIES:Präsenz
GEO:48.3390292;10.8926882
X-APPLE-STRUCTURED-LOCATION;VALUE=URI;X-ADDRESS=Messe Augsburg Am Messezentrum 5 Augsburg 86159 Germany;X-APPLE-RADIUS=500;X-TITLE=Am Messezentrum 5:geo:10.8926882,48.3390292
END:VEVENT
BEGIN:VEVENT
DTSTART;VALUE=DATE:20260205
DTEND;VALUE=DATE:20260209
DTSTAMP:20260425T220706
CREATED:20251229T170515Z
LAST-MODIFIED:20251229T170515Z
UID:10000040-1770249600-1770595199@www.flottentermine.de
SUMMARY:REISEN Caravaning Hamburg Norddeutschlands größter Urlaubsmesse
DESCRIPTION:
URL:https://www.flottentermine.de/event/reisen-caravaning-hamburg-norddeutschlands-groesster-urlaubsmesse/
LOCATION:Hamburg Messe\, Messeplatz 1\, Hamburg\, 20357\, Germany
CATEGORIES:Präsenz
GEO:53.5616782;9.9771177
X-APPLE-STRUCTURED-LOCATION;VALUE=URI;X-ADDRESS=Hamburg Messe Messeplatz 1 Hamburg 20357 Germany;X-APPLE-RADIUS=500;X-TITLE=Messeplatz 1:geo:9.9771177,53.5616782
END:VEVENT
BEGIN:VEVENT
DTSTART;VALUE=DATE:20260209
DTEND;VALUE=DATE:20260212
DTSTAMP:20260425T220706
CREATED:20251229T170937Z
LAST-MODIFIED:20251229T170937Z
UID:10000045-1770595200-1770854399@www.flottentermine.de
SUMMARY:Weiterbildung: zum zertifizierten Mobilitätsmanager - Modul 1 "Fleet und Travelmanagement"
DESCRIPTION:
URL:https://www.flottentermine.de/event/weiterbildung-zum-zertifizierten-mobilitaetsmanager-modul-1-fleet-und-travelmanagement/
LOCATION:Mannheim
CATEGORIES:Präsenz
END:VEVENT
BEGIN:VEVENT
DTSTART;VALUE=DATE:20260211
DTEND;VALUE=DATE:20260212
DTSTAMP:20260425T220706
CREATED:20260109T143136Z
LAST-MODIFIED:20260312T105117Z
UID:10000053-1770768000-1770854399@www.flottentermine.de
SUMMARY:BBM Lokal Hamburg - Impulse für betriebliche Mobilität
DESCRIPTION:
URL:https://www.flottentermine.de/event/bbm-lokal-hamburg/
LOCATION:belmoto GmbH\, An der Alster 1\, Hamburg\, 20099\, Germany
CATEGORIES:Präsenz
GEO:53.561713;10.0150296
X-APPLE-STRUCTURED-LOCATION;VALUE=URI;X-ADDRESS=belmoto GmbH An der Alster 1 Hamburg 20099 Germany;X-APPLE-RADIUS=500;X-TITLE=An der Alster 1:geo:10.0150296,53.561713
END:VEVENT
BEGIN:VEVENT
DTSTART;VALUE=DATE:20260212
DTEND;VALUE=DATE:20260213
DTSTAMP:20260425T220706
CREATED:20251229T164124Z
LAST-MODIFIED:20260112T201703Z
UID:10000019-1770854400-1770940799@www.flottentermine.de
SUMMARY:FleetDating! Frankfurt
DESCRIPTION:Das FleetDating! ist ein strukturiertes Business-Networking-Format für Entscheider und Verantwortliche aus dem Fuhrpark- und Mobilitätsmanagement sowie für ausgewählte Anbieter aus der Branche. Im Mittelpunkt stehen kompakte 1:1-Gespräche in festen Zeit-Slots\, die einen effizienten Austausch zu Produkten\, Dienstleistungen und aktuellen Marktentwicklungen ermöglichen. Ergänzt wird das Networking durch thematische Impulsvorträge\, Diskussionsrunden und Networking-Pausen\, die Raum für vertiefende Gespräche bieten.
URL:https://www.flottentermine.de/event/fleetdating-frankfurt/
LOCATION:Lindner Hotel Frankfurt Sportpark\, Otto-Fleck-Schneise 8\, Frankfurt am Main\, 60528\, Germany
CATEGORIES:Präsenz
ATTACH;FMTTYPE=image/png:https://www.flottentermine.de/wp-content/uploads/2025/12/FleetDating.png
ORGANIZER;CN="FleetDating!":MAILTO:events@flottentermine.de
GEO:50.0674707;8.6421662
X-APPLE-STRUCTURED-LOCATION;VALUE=URI;X-ADDRESS=Lindner Hotel Frankfurt Sportpark Otto-Fleck-Schneise 8 Frankfurt am Main 60528 Germany;X-APPLE-RADIUS=500;X-TITLE=Otto-Fleck-Schneise 8:geo:8.6421662,50.0674707
END:VEVENT
BEGIN:VEVENT
DTSTART;VALUE=DATE:20260218
DTEND;VALUE=DATE:20260219
DTSTAMP:20260425T220706
CREATED:20260109T143231Z
LAST-MODIFIED:20260312T105124Z
UID:10000054-1771372800-1771459199@www.flottentermine.de
SUMMARY:BBM Lokal München - Impulse für betriebliche Mobilität
DESCRIPTION:
URL:https://www.flottentermine.de/event/bbm-lokal-muenchen/
LOCATION:CARSYNC GmbH\, Josef-Dollinger-Bogen 26\, München\, 80807\, Germany
CATEGORIES:Präsenz
GEO:48.1850634;11.6052944
X-APPLE-STRUCTURED-LOCATION;VALUE=URI;X-ADDRESS=CARSYNC GmbH Josef-Dollinger-Bogen 26 München 80807 Germany;X-APPLE-RADIUS=500;X-TITLE=Josef-Dollinger-Bogen 26:geo:11.6052944,48.1850634
END:VEVENT
BEGIN:VEVENT
DTSTART;TZID=Europe/Helsinki:20260219T103000
DTEND;TZID=Europe/Helsinki:20260219T123000
DTSTAMP:20260425T220706
CREATED:20260109T143314Z
LAST-MODIFIED:20260115T120143Z
UID:10000055-1771497000-1771504200@www.flottentermine.de
SUMMARY:Special-Seminar „Mobilität neu denken – Welche modernen Optionen Ihr Unternehmen wirklich weiterbringen“ mit Alexander Schuh
DESCRIPTION:Seminar Special: Mobilität neu denken – Welche modernen Optionen Ihr Unternehmen wirklich weiterbringen“ zeigt praxisnah\, wie Firmen heute mit Mobilitätsbudget\, Auto-Abo\, Sharing-Angeboten\, Fahrradleasing und BahnCards zukunftsfähige Mobilitätsstrategien entwickeln und umsetzen. Dieses Online-Seminar bietet einen klar strukturierten Überblick über die wichtigsten modernen Mobilitätsformen\, um die passende Lösung für unterschiedliche Unternehmensanforderungen zu finden und die Mitarbeitermobilität nachhaltig zu optimieren.
URL:https://www.flottentermine.de/event/special-seminar-mobilitaet-neu-denken-welche-modernen-optionen-ihr-unternehmen-wirklich-weiterbringen-mit-alexander-schuh/
LOCATION:Online
CATEGORIES:Online
END:VEVENT
BEGIN:VEVENT
DTSTART;VALUE=DATE:20260225
DTEND;VALUE=DATE:20260226
DTSTAMP:20260425T220706
CREATED:20251229T165256Z
LAST-MODIFIED:20251229T165256Z
UID:10000029-1771977600-1772063999@www.flottentermine.de
SUMMARY:Deutscher Remarketing Kongress
DESCRIPTION:
URL:https://www.flottentermine.de/event/deutscher-remarketing-kongress/
LOCATION:VCC Vogel Convention Center\, Max-Planck-Str. 7\, Würzburg\, 97082\, Germany
CATEGORIES:Präsenz
GEO:49.7970754;9.9007396
X-APPLE-STRUCTURED-LOCATION;VALUE=URI;X-ADDRESS=VCC Vogel Convention Center Max-Planck-Str. 7 Würzburg 97082 Germany;X-APPLE-RADIUS=500;X-TITLE=Max-Planck-Str. 7:geo:9.9007396,49.7970754
END:VEVENT
BEGIN:VEVENT
DTSTART;TZID=Europe/Helsinki:20260225T100000
DTEND;TZID=Europe/Helsinki:20260225T140000
DTSTAMP:20260425T220706
CREATED:20260224T081614Z
LAST-MODIFIED:20260224T082114Z
UID:10000072-1772013600-1772028000@www.flottentermine.de
SUMMARY:electrive LIVE - Die Online-Konferenz für Elektromobilität
DESCRIPTION:Die Online-Konferenz electrive LIVE mit dem Fokus Online-Konferenz Elektromobilität richtet sich an Fachleute aus der Elektromobilität und Flottenverantwortliche. Bei dem digitalen Format am 25. Februar 2026 werden Aspekte der Elektrifizierung von Unternehmensflotten und aktuelle Themen der E-Mobilität diskutiert. Nutzen Sie die Möglichkeit\, sich zur Veranstaltung zu informieren und Details zum Ablauf anzusehen.
URL:https://www.flottentermine.de/event/electrive-live-online-konferenz/
LOCATION:Online
CATEGORIES:Online
ORGANIZER;CN="electrive LIVE":MAILTO:electrive@mapp-media.com
END:VEVENT
END:VCALENDAR