BEGIN:VCALENDAR
VERSION:2.0
PRODID:-//Flottentermine - ECPv6.15.20//NONSGML v1.0//EN
CALSCALE:GREGORIAN
METHOD:PUBLISH
X-WR-CALNAME:Flottentermine
X-ORIGINAL-URL:https://www.flottentermine.de
X-WR-CALDESC:Veranstaltungen für Flottentermine
REFRESH-INTERVAL;VALUE=DURATION:PT1H
X-Robots-Tag:noindex
X-PUBLISHED-TTL:PT1H
BEGIN:VTIMEZONE
TZID:Europe/Helsinki
BEGIN:DAYLIGHT
TZOFFSETFROM:+0200
TZOFFSETTO:+0300
TZNAME:EEST
DTSTART:20250330T010000
END:DAYLIGHT
BEGIN:STANDARD
TZOFFSETFROM:+0300
TZOFFSETTO:+0200
TZNAME:EET
DTSTART:20251026T010000
END:STANDARD
BEGIN:DAYLIGHT
TZOFFSETFROM:+0200
TZOFFSETTO:+0300
TZNAME:EEST
DTSTART:20260329T010000
END:DAYLIGHT
BEGIN:STANDARD
TZOFFSETFROM:+0300
TZOFFSETTO:+0200
TZNAME:EET
DTSTART:20261025T010000
END:STANDARD
BEGIN:DAYLIGHT
TZOFFSETFROM:+0200
TZOFFSETTO:+0300
TZNAME:EEST
DTSTART:20270328T010000
END:DAYLIGHT
BEGIN:STANDARD
TZOFFSETFROM:+0300
TZOFFSETTO:+0200
TZNAME:EET
DTSTART:20271031T010000
END:STANDARD
END:VTIMEZONE
BEGIN:VEVENT
DTSTART;VALUE=DATE:20260109
DTEND;VALUE=DATE:20260119
DTSTAMP:20260426T010917
CREATED:20260109T142921Z
LAST-MODIFIED:20260109T142921Z
UID:10000051-1767916800-1768780799@www.flottentermine.de
SUMMARY:Salon Brussels Motor Show
DESCRIPTION:
URL:https://www.flottentermine.de/event/salon-brussels-motor-show/
LOCATION:Brussels Expo\, Pl. de Belgique 1\, Bruxelles\, 1020\, Belgium
CATEGORIES:Präsenz
GEO:50.897687;4.341218
X-APPLE-STRUCTURED-LOCATION;VALUE=URI;X-ADDRESS=Brussels Expo Pl. de Belgique 1 Bruxelles 1020 Belgium;X-APPLE-RADIUS=500;X-TITLE=Pl. de Belgique 1:geo:4.341218,50.897687
END:VEVENT
BEGIN:VEVENT
DTSTART;VALUE=DATE:20260117
DTEND;VALUE=DATE:20260126
DTSTAMP:20260426T010917
CREATED:20251229T165125Z
LAST-MODIFIED:20260108T201904Z
UID:10000027-1768608000-1769385599@www.flottentermine.de
SUMMARY:CMT - Die Urlaubsmesse
DESCRIPTION:Die CMT in Stuttgart zählt zu den weltweit größten Publikums-Messen für Tourismus\, Freizeit und Caravaning und findet 2026 vom 17. bis 25. Januar auf dem Gelände der Messe Stuttgart statt. Über mehrere Tage präsentieren Aussteller aus rund 100 Ländern vielfältige Urlaubsideen\, Reiseziele und Freizeitkonzepte – von klassischen Städtereisen über Outdoor-Abenteuer bis zu Spezialthemen wie Wellness\, Kreuzfahrten oder Rad- und Wanderreisen. Parallel sind zahlreiche Caravans\, Wohnmobile und Freizeitfahrzeuge sowie Zubehör und campingspezifische Angebote zu entdecken. Mit einem breiten Rahmenprogramm\, thematischen Schwerpunkten an Wochenenden und Experten-Insights ist die CMT ein Treffpunkt für Reiseinteressierte aller Altersgruppen\, die Inspiration und Planungshilfen für ihre nächste Reise suchen.
URL:https://www.flottentermine.de/event/cmt-die-urlaubsmesse/
LOCATION:Messe Stuttgart\, Messepiazza 1\, Stuttgart\, 70629\, Germany
CATEGORIES:Präsenz
GEO:48.6949214;9.1828054
X-APPLE-STRUCTURED-LOCATION;VALUE=URI;X-ADDRESS=Messe Stuttgart Messepiazza 1 Stuttgart 70629 Germany;X-APPLE-RADIUS=500;X-TITLE=Messepiazza 1:geo:9.1828054,48.6949214
END:VEVENT
BEGIN:VEVENT
DTSTART;VALUE=DATE:20260123
DTEND;VALUE=DATE:20260126
DTSTAMP:20260426T010917
CREATED:20251229T164911Z
LAST-MODIFIED:20260108T110143Z
UID:10000025-1769126400-1769385599@www.flottentermine.de
SUMMARY:Automobilmesse Erfurt
DESCRIPTION:
URL:https://www.flottentermine.de/event/automobilmesse-erfurt/
LOCATION:Messe Erfurt\, Gothaer Straße 34\, Erfurt\, 99094\, Germany
CATEGORIES:Präsenz
GEO:50.9596876;10.9906765
X-APPLE-STRUCTURED-LOCATION;VALUE=URI;X-ADDRESS=Messe Erfurt Gothaer Straße 34 Erfurt 99094 Germany;X-APPLE-RADIUS=500;X-TITLE=Gothaer Straße 34:geo:10.9906765,50.9596876
END:VEVENT
BEGIN:VEVENT
DTSTART;VALUE=DATE:20260129
DTEND;VALUE=DATE:20260130
DTSTAMP:20260426T010917
CREATED:20251207T092314Z
LAST-MODIFIED:20260120T184317Z
UID:10000003-1769644800-1769731199@www.flottentermine.de
SUMMARY:FleetDating! Hamburg
DESCRIPTION:Das FleetDating! ist ein strukturiertes Business-Networking-Format für Entscheider und Verantwortliche aus dem Fuhrpark- und Mobilitätsmanagement sowie für ausgewählte Anbieter aus der Branche. Im Mittelpunkt stehen kompakte 1:1-Gespräche in festen Zeit-Slots\, die einen effizienten Austausch zu Produkten\, Dienstleistungen und aktuellen Marktentwicklungen ermöglichen. Ergänzt wird das Networking durch thematische Impulsvorträge\, Diskussionsrunden und Networking-Pausen\, die Raum für vertiefende Gespräche bieten.
URL:https://www.flottentermine.de/event/fleetdating-hamburg/
LOCATION:Mellingburger Schleuse\, Hamburg\, Mellingburgredder 1\, Hamburg\, 22395\, Germany
CATEGORIES:Präsenz
ATTACH;FMTTYPE=image/jpeg:https://www.flottentermine.de/wp-content/uploads/2025/12/logo_event_fleetdating_300px.jpg
ORGANIZER;CN="FleetDating!":MAILTO:events@flottentermine.de
GEO:53.6700492;10.0980384
X-APPLE-STRUCTURED-LOCATION;VALUE=URI;X-ADDRESS=Mellingburger Schleuse Hamburg Mellingburgredder 1 Hamburg 22395 Germany;X-APPLE-RADIUS=500;X-TITLE=Mellingburgredder 1:geo:10.0980384,53.6700492
END:VEVENT
BEGIN:VEVENT
DTSTART;VALUE=DATE:20260130
DTEND;VALUE=DATE:20260131
DTSTAMP:20260426T010917
CREATED:20260109T143020Z
LAST-MODIFIED:20260109T143020Z
UID:10000052-1769731200-1769817599@www.flottentermine.de
SUMMARY:Car Policy 2026: Rechtssichere Gestaltung und aktuelle Pflichten für Unternehmen
DESCRIPTION:
URL:https://www.flottentermine.de/event/car-policy-2026-rechtssichere-gestaltung-und-aktuelle-pflichten-fuer-unternehmen/
LOCATION:Online
CATEGORIES:Online
ORGANIZER;CN="CARextern Automotive Services GmbH":MAILTO:contact@car-extern.de
END:VEVENT
BEGIN:VEVENT
DTSTART;VALUE=DATE:20260130
DTEND;VALUE=DATE:20260202
DTSTAMP:20260426T010917
CREATED:20251229T170843Z
LAST-MODIFIED:20251229T170843Z
UID:10000044-1769731200-1769990399@www.flottentermine.de
SUMMARY:Volt E-Mobilität - Future Mobility Messe
DESCRIPTION:
URL:https://www.flottentermine.de/event/volt-e-mobilitaet-future-mobility-messe/
LOCATION:Messe Augsburg\, Am Messezentrum 5\, Augsburg\, 86159\, Germany
CATEGORIES:Präsenz
GEO:48.3390292;10.8926882
X-APPLE-STRUCTURED-LOCATION;VALUE=URI;X-ADDRESS=Messe Augsburg Am Messezentrum 5 Augsburg 86159 Germany;X-APPLE-RADIUS=500;X-TITLE=Am Messezentrum 5:geo:10.8926882,48.3390292
END:VEVENT
BEGIN:VEVENT
DTSTART;VALUE=DATE:20260205
DTEND;VALUE=DATE:20260209
DTSTAMP:20260426T010917
CREATED:20251229T170515Z
LAST-MODIFIED:20251229T170515Z
UID:10000040-1770249600-1770595199@www.flottentermine.de
SUMMARY:REISEN Caravaning Hamburg Norddeutschlands größter Urlaubsmesse
DESCRIPTION:
URL:https://www.flottentermine.de/event/reisen-caravaning-hamburg-norddeutschlands-groesster-urlaubsmesse/
LOCATION:Hamburg Messe\, Messeplatz 1\, Hamburg\, 20357\, Germany
CATEGORIES:Präsenz
GEO:53.5616782;9.9771177
X-APPLE-STRUCTURED-LOCATION;VALUE=URI;X-ADDRESS=Hamburg Messe Messeplatz 1 Hamburg 20357 Germany;X-APPLE-RADIUS=500;X-TITLE=Messeplatz 1:geo:9.9771177,53.5616782
END:VEVENT
BEGIN:VEVENT
DTSTART;VALUE=DATE:20260209
DTEND;VALUE=DATE:20260212
DTSTAMP:20260426T010917
CREATED:20251229T170937Z
LAST-MODIFIED:20251229T170937Z
UID:10000045-1770595200-1770854399@www.flottentermine.de
SUMMARY:Weiterbildung: zum zertifizierten Mobilitätsmanager - Modul 1 "Fleet und Travelmanagement"
DESCRIPTION:
URL:https://www.flottentermine.de/event/weiterbildung-zum-zertifizierten-mobilitaetsmanager-modul-1-fleet-und-travelmanagement/
LOCATION:Mannheim
CATEGORIES:Präsenz
END:VEVENT
BEGIN:VEVENT
DTSTART;VALUE=DATE:20260211
DTEND;VALUE=DATE:20260212
DTSTAMP:20260426T010917
CREATED:20260109T143136Z
LAST-MODIFIED:20260312T105117Z
UID:10000053-1770768000-1770854399@www.flottentermine.de
SUMMARY:BBM Lokal Hamburg - Impulse für betriebliche Mobilität
DESCRIPTION:
URL:https://www.flottentermine.de/event/bbm-lokal-hamburg/
LOCATION:belmoto GmbH\, An der Alster 1\, Hamburg\, 20099\, Germany
CATEGORIES:Präsenz
GEO:53.561713;10.0150296
X-APPLE-STRUCTURED-LOCATION;VALUE=URI;X-ADDRESS=belmoto GmbH An der Alster 1 Hamburg 20099 Germany;X-APPLE-RADIUS=500;X-TITLE=An der Alster 1:geo:10.0150296,53.561713
END:VEVENT
BEGIN:VEVENT
DTSTART;VALUE=DATE:20260212
DTEND;VALUE=DATE:20260213
DTSTAMP:20260426T010917
CREATED:20251229T164124Z
LAST-MODIFIED:20260112T201703Z
UID:10000019-1770854400-1770940799@www.flottentermine.de
SUMMARY:FleetDating! Frankfurt
DESCRIPTION:Das FleetDating! ist ein strukturiertes Business-Networking-Format für Entscheider und Verantwortliche aus dem Fuhrpark- und Mobilitätsmanagement sowie für ausgewählte Anbieter aus der Branche. Im Mittelpunkt stehen kompakte 1:1-Gespräche in festen Zeit-Slots\, die einen effizienten Austausch zu Produkten\, Dienstleistungen und aktuellen Marktentwicklungen ermöglichen. Ergänzt wird das Networking durch thematische Impulsvorträge\, Diskussionsrunden und Networking-Pausen\, die Raum für vertiefende Gespräche bieten.
URL:https://www.flottentermine.de/event/fleetdating-frankfurt/
LOCATION:Lindner Hotel Frankfurt Sportpark\, Otto-Fleck-Schneise 8\, Frankfurt am Main\, 60528\, Germany
CATEGORIES:Präsenz
ATTACH;FMTTYPE=image/png:https://www.flottentermine.de/wp-content/uploads/2025/12/FleetDating.png
ORGANIZER;CN="FleetDating!":MAILTO:events@flottentermine.de
GEO:50.0674707;8.6421662
X-APPLE-STRUCTURED-LOCATION;VALUE=URI;X-ADDRESS=Lindner Hotel Frankfurt Sportpark Otto-Fleck-Schneise 8 Frankfurt am Main 60528 Germany;X-APPLE-RADIUS=500;X-TITLE=Otto-Fleck-Schneise 8:geo:8.6421662,50.0674707
END:VEVENT
BEGIN:VEVENT
DTSTART;VALUE=DATE:20260218
DTEND;VALUE=DATE:20260219
DTSTAMP:20260426T010917
CREATED:20260109T143231Z
LAST-MODIFIED:20260312T105124Z
UID:10000054-1771372800-1771459199@www.flottentermine.de
SUMMARY:BBM Lokal München - Impulse für betriebliche Mobilität
DESCRIPTION:
URL:https://www.flottentermine.de/event/bbm-lokal-muenchen/
LOCATION:CARSYNC GmbH\, Josef-Dollinger-Bogen 26\, München\, 80807\, Germany
CATEGORIES:Präsenz
GEO:48.1850634;11.6052944
X-APPLE-STRUCTURED-LOCATION;VALUE=URI;X-ADDRESS=CARSYNC GmbH Josef-Dollinger-Bogen 26 München 80807 Germany;X-APPLE-RADIUS=500;X-TITLE=Josef-Dollinger-Bogen 26:geo:11.6052944,48.1850634
END:VEVENT
BEGIN:VEVENT
DTSTART;TZID=Europe/Helsinki:20260219T103000
DTEND;TZID=Europe/Helsinki:20260219T123000
DTSTAMP:20260426T010917
CREATED:20260109T143314Z
LAST-MODIFIED:20260115T120143Z
UID:10000055-1771497000-1771504200@www.flottentermine.de
SUMMARY:Special-Seminar „Mobilität neu denken – Welche modernen Optionen Ihr Unternehmen wirklich weiterbringen“ mit Alexander Schuh
DESCRIPTION:Seminar Special: Mobilität neu denken – Welche modernen Optionen Ihr Unternehmen wirklich weiterbringen“ zeigt praxisnah\, wie Firmen heute mit Mobilitätsbudget\, Auto-Abo\, Sharing-Angeboten\, Fahrradleasing und BahnCards zukunftsfähige Mobilitätsstrategien entwickeln und umsetzen. Dieses Online-Seminar bietet einen klar strukturierten Überblick über die wichtigsten modernen Mobilitätsformen\, um die passende Lösung für unterschiedliche Unternehmensanforderungen zu finden und die Mitarbeitermobilität nachhaltig zu optimieren.
URL:https://www.flottentermine.de/event/special-seminar-mobilitaet-neu-denken-welche-modernen-optionen-ihr-unternehmen-wirklich-weiterbringen-mit-alexander-schuh/
LOCATION:Online
CATEGORIES:Online
END:VEVENT
BEGIN:VEVENT
DTSTART;VALUE=DATE:20260225
DTEND;VALUE=DATE:20260226
DTSTAMP:20260426T010917
CREATED:20251229T165256Z
LAST-MODIFIED:20251229T165256Z
UID:10000029-1771977600-1772063999@www.flottentermine.de
SUMMARY:Deutscher Remarketing Kongress
DESCRIPTION:
URL:https://www.flottentermine.de/event/deutscher-remarketing-kongress/
LOCATION:VCC Vogel Convention Center\, Max-Planck-Str. 7\, Würzburg\, 97082\, Germany
CATEGORIES:Präsenz
GEO:49.7970754;9.9007396
X-APPLE-STRUCTURED-LOCATION;VALUE=URI;X-ADDRESS=VCC Vogel Convention Center Max-Planck-Str. 7 Würzburg 97082 Germany;X-APPLE-RADIUS=500;X-TITLE=Max-Planck-Str. 7:geo:9.9007396,49.7970754
END:VEVENT
BEGIN:VEVENT
DTSTART;TZID=Europe/Helsinki:20260225T100000
DTEND;TZID=Europe/Helsinki:20260225T140000
DTSTAMP:20260426T010917
CREATED:20260224T081614Z
LAST-MODIFIED:20260224T082114Z
UID:10000072-1772013600-1772028000@www.flottentermine.de
SUMMARY:electrive LIVE - Die Online-Konferenz für Elektromobilität
DESCRIPTION:Die Online-Konferenz electrive LIVE mit dem Fokus Online-Konferenz Elektromobilität richtet sich an Fachleute aus der Elektromobilität und Flottenverantwortliche. Bei dem digitalen Format am 25. Februar 2026 werden Aspekte der Elektrifizierung von Unternehmensflotten und aktuelle Themen der E-Mobilität diskutiert. Nutzen Sie die Möglichkeit\, sich zur Veranstaltung zu informieren und Details zum Ablauf anzusehen.
URL:https://www.flottentermine.de/event/electrive-live-online-konferenz/
LOCATION:Online
CATEGORIES:Online
ORGANIZER;CN="electrive LIVE":MAILTO:electrive@mapp-media.com
END:VEVENT
BEGIN:VEVENT
DTSTART;VALUE=DATE:20260304
DTEND;VALUE=DATE:20260306
DTSTAMP:20260426T010917
CREATED:20260226T140809Z
LAST-MODIFIED:20260226T141604Z
UID:10000073-1772582400-1772755199@www.flottentermine.de
SUMMARY:COMMERCIAL FLEETS SUMMIT
DESCRIPTION:Der Commercial Fleets Summit ist eine Branchenveranstaltung für professionelle Flotten- und Mobilitätsverantwortliche. \nIm Mittelpunkt des Commercial Fleets Summit stehen aktuelle Entwicklungen\, Strategien und Lösungen rund um das Management gewerblicher Fahrzeugflotten. Die Veranstaltung richtet sich an Fuhrparkverantwortliche\, Einkäufer sowie Entscheider im Bereich Mobilität und bietet einen strukturierten Rahmen für fachlichen Austausch und Information. \nInteressierte können sich über Inhalte und Ablauf informieren und den Termin vormerken.
URL:https://www.flottentermine.de/event/commercial-fleets-summit/
LOCATION:Hotel Van der Valk – Brussels Airport\, Culliganlaan 4\, Machelen\, Brüssel\, 1831\, Belgium
CATEGORIES:Präsenz
ORGANIZER;CN="NEXUS COMMUNICATION SA":MAILTO:contact@nexuscommunication.be
GEO:50.8874505;4.4530188
X-APPLE-STRUCTURED-LOCATION;VALUE=URI;X-ADDRESS=Hotel Van der Valk – Brussels Airport Culliganlaan 4 Machelen Brüssel 1831 Belgium;X-APPLE-RADIUS=500;X-TITLE=Culliganlaan 4:geo:4.4530188,50.8874505
END:VEVENT
BEGIN:VEVENT
DTSTART;TZID=Europe/Helsinki:20260305T103000
DTEND;TZID=Europe/Helsinki:20260305T113000
DTSTAMP:20260426T010917
CREATED:20260302T195647Z
LAST-MODIFIED:20260303T081728Z
UID:10000074-1772706600-1772710200@www.flottentermine.de
SUMMARY:Mobilität im Wandel: Veränderung gestalten und effektiv kommunizieren
DESCRIPTION:Die Veranstaltung Mobilität im Wandel: Veränderung gestalten und effektiv kommunizieren ist ein Online-Seminar zum Umgang mit Veränderungsprozessen im Mobilitätsumfeld. Sie richtet sich an Fach- und Führungskräfte\, die sich mit Transformation und Kommunikation befassen. \nIm Fokus stehen Ansätze zur strukturierten Gestaltung von Veränderung sowie zur zielgerichteten internen und externen Kommunikation. Thematisiert werden Herausforderungen und Methoden\, die im Kontext moderner Mobilität eine Rolle spielen. \nInteressierte können den Termin vormerken und weitere Details auf der Event-Website einsehen.
URL:https://www.flottentermine.de/event/mobilitaet-im-wandel-veraenderung-gestalten-und-effektiv-kommunizieren/
LOCATION:Online
CATEGORIES:Online
END:VEVENT
BEGIN:VEVENT
DTSTART;TZID=Europe/Helsinki:20260309T130000
DTEND;TZID=Europe/Helsinki:20260309T140000
DTSTAMP:20260426T010917
CREATED:20260302T200131Z
LAST-MODIFIED:20260303T081247Z
UID:10000075-1773061200-1773064800@www.flottentermine.de
SUMMARY:Rat § Tat mit RA Inka Pichler – Schwerpunkt Schadenmanagement
DESCRIPTION:Die Veranstaltung Rat § Tat mit RA Inka Pichler – Schwerpunkt Schadenmanagement ist ein Online-Seminar mit juristischem Fokus auf Schadenfälle im Fuhrpark. Sie richtet sich an Verantwortliche\, die mit rechtlichen Fragestellungen im Flottenalltag befasst sind. \nIm Mittelpunkt stehen praxisnahe Informationen zu Haftung\, Regulierung und typischen Herausforderungen im Schadenprozess. Behandelt werden rechtliche Grundlagen und Fragestellungen rund um das Schwerpunkt Schadenmanagement. \nInteressierte können den Termin vormerken und weitere Informationen auf der Event-Website abrufen.
URL:https://www.flottentermine.de/event/rat-%c2%a7-tat-mit-ra-inka-pichler-schwerpunkt-schadenmanagement/
LOCATION:Online
CATEGORIES:Online
END:VEVENT
BEGIN:VEVENT
DTSTART;TZID=Europe/Helsinki:20260310T100000
DTEND;TZID=Europe/Helsinki:20260310T113000
DTSTAMP:20260426T010917
CREATED:20260308T165332Z
LAST-MODIFIED:20260308T165555Z
UID:10000085-1773136800-1773142200@www.flottentermine.de
SUMMARY:Gefährliche Güter als Kühlmittel
DESCRIPTION:Die Veranstaltung Gefährliche Güter als Kühlmittel ist ein Online-Seminar zu rechtlichen und organisatorischen Anforderungen beim Einsatz bestimmter Kühlmittel im Transport. Sie richtet sich an Verantwortliche aus Logistik\, Transport und Fuhrparkmanagement. \nIm Fokus stehen Vorschriften und praktische Fragestellungen im Umgang mit Stoffen\, die im Transportrecht als Gefahrgut eingestuft sind. Thematisiert werden dabei auch Regelwerke und Anwendungsfälle rund um Gefährliche Güter als Kühlmittel.
URL:https://www.flottentermine.de/event/gefaehrliche-gueter-als-kuehlmittel/
LOCATION:Online
CATEGORIES:Online
END:VEVENT
BEGIN:VEVENT
DTSTART;TZID=Europe/Helsinki:20260311T100000
DTEND;TZID=Europe/Helsinki:20260311T110000
DTSTAMP:20260426T010917
CREATED:20260302T200543Z
LAST-MODIFIED:20260303T081736Z
UID:10000076-1773223200-1773226800@www.flottentermine.de
SUMMARY:Mobilität neu definieren: Übergang von Car Policy zu Mobility Policy​
DESCRIPTION:Die Veranstaltung Mobilität neu definieren: Übergang von Car Policy zu Mobility Policy ist ein Online-Seminar zur strategischen Weiterentwicklung betrieblicher Mobilitätsregelungen. Sie richtet sich an Verantwortliche aus Fuhrpark- und Mobilitätsmanagement. \nBehandelt werden organisatorische und inhaltliche Aspekte beim Wechsel von klassischen Car Policies hin zu ganzheitlichen Mobility Policies. Im Fokus steht Mobilität neu definieren als Ansatz zur Anpassung an veränderte Anforderungen in Unternehmen. \nInteressierte können den Termin vormerken und weitere Details auf der Event-Website einsehen.
URL:https://www.flottentermine.de/event/mobilitaet-neu-definieren-uebergang-von-car-policy-zu-mobility-policy/
LOCATION:Online
CATEGORIES:Online
END:VEVENT
BEGIN:VEVENT
DTSTART;VALUE=DATE:20260312
DTEND;VALUE=DATE:20260313
DTSTAMP:20260426T010917
CREATED:20260308T163110Z
LAST-MODIFIED:20260308T163409Z
UID:10000083-1773273600-1773359999@www.flottentermine.de
SUMMARY:Megatrends Fleet 2026 - KI im Fuhrpark
DESCRIPTION:Megatrends Fleet 2026 – KI im Fuhrpark ist eine Fachveranstaltung zu aktuellen Entwicklungen rund um den Einsatz von Künstlicher Intelligenz im Flottenmanagement. Sie richtet sich an Fuhrparkverantwortliche sowie Entscheider aus dem Mobilitätsumfeld. \nIm Mittelpunkt stehen technologische Trends\, Anwendungsfelder und mögliche Auswirkungen von KI auf Prozesse im Fuhrpark. Die Veranstaltung ordnet Entwicklungen ein und bietet Raum für fachlichen Austausch zum Thema Megatrends Fleet 2026 KI im Fuhrpark.
URL:https://www.flottentermine.de/event/megatrends-fleet-2026-ki-im-fuhrpark/
LOCATION:Online
CATEGORIES:Online
END:VEVENT
BEGIN:VEVENT
DTSTART;TZID=Europe/Helsinki:20260312T093000
DTEND;TZID=Europe/Helsinki:20260312T103000
DTSTAMP:20260426T010917
CREATED:20260311T102533Z
LAST-MODIFIED:20260311T102533Z
UID:10000091-1773307800-1773311400@www.flottentermine.de
SUMMARY:Webinar: Kosten senken in der Flottenversicherung – wir erklären wie!
DESCRIPTION:Das Webinar Flottenversicherung Kosten senken richtet sich an Fuhrparkverantwortliche und Entscheider im Flottenmanagement. Die Online-Veranstaltung behandelt Möglichkeiten zur Reduzierung von Kosten in der Flottenversicherung. \nIm Mittelpunkt stehen Informationen zu Ansätzen und Hintergründen rund um Versicherungsmodelle und Kostenstrukturen im Fuhrpark. Das Webinar bietet einen Überblick über relevante Aspekte der Flottenversicherung und zeigt auf\, welche Faktoren Einfluss auf die Versicherungsaufwendungen haben können. \nWeitere Informationen zur Teilnahme sowie organisatorische Details sind über die Veranstaltungsseite abrufbar. Interessierte können dort den Termin einsehen und vormerken.
URL:https://www.flottentermine.de/event/webinar-flottenversicherung/
LOCATION:Online
CATEGORIES:Online
ORGANIZER;CN="CARextern Automotive Services GmbH":MAILTO:contact@car-extern.de
END:VEVENT
BEGIN:VEVENT
DTSTART;VALUE=DATE:20260317
DTEND;VALUE=DATE:20260319
DTSTAMP:20260426T010917
CREATED:20251229T171042Z
LAST-MODIFIED:20251229T171042Z
UID:10000046-1773705600-1773878399@www.flottentermine.de
SUMMARY:Weiterbildung: zum zertifizierten Mobilitätsmanager - Modul 2 "Change Management & Kommunikation"
DESCRIPTION:
URL:https://www.flottentermine.de/event/weiterbildung-zum-zertifizierten-mobilitaetsmanager-modul-2-change-management-kommunikation/
LOCATION:Freizeit In Göttingen\, Dransfelder Straße 3\, Göttingen\, 37079\, Germany
CATEGORIES:Präsenz
GEO:51.165691;10.451526
X-APPLE-STRUCTURED-LOCATION;VALUE=URI;X-ADDRESS=Freizeit In Göttingen Dransfelder Straße 3 Göttingen 37079 Germany;X-APPLE-RADIUS=500;X-TITLE=Dransfelder Straße 3:geo:10.451526,51.165691
END:VEVENT
BEGIN:VEVENT
DTSTART;VALUE=DATE:20260318
DTEND;VALUE=DATE:20260323
DTSTAMP:20260426T010917
CREATED:20251229T170247Z
LAST-MODIFIED:20251229T170247Z
UID:10000038-1773792000-1774223999@www.flottentermine.de
SUMMARY:MOBILTIY WORLD - Sonderschau im Rahmen der IBO für nachhaltige Mobilität
DESCRIPTION:
URL:https://www.flottentermine.de/event/mobiltiy-world-sonderschau-im-rahmen-der-ibo-fuer-nachhaltige-mobilitaet/
LOCATION:Messe Friedrichshafen\, Neue Messe 1\, Friedrichshafen\, 88046\, Germany
CATEGORIES:Präsenz
GEO:47.6782083;9.5072566
X-APPLE-STRUCTURED-LOCATION;VALUE=URI;X-ADDRESS=Messe Friedrichshafen Neue Messe 1 Friedrichshafen 88046 Germany;X-APPLE-RADIUS=500;X-TITLE=Neue Messe 1:geo:9.5072566,47.6782083
END:VEVENT
BEGIN:VEVENT
DTSTART;TZID=Europe/Helsinki:20260319T090000
DTEND;TZID=Europe/Helsinki:20260319T120000
DTSTAMP:20260426T010917
CREATED:20260302T200930Z
LAST-MODIFIED:20260303T081753Z
UID:10000077-1773910800-1773921600@www.flottentermine.de
SUMMARY:Grundlagen Fuhrparkmanagement Dienstwagensteuer
DESCRIPTION:Die Veranstaltung Grundlagen Fuhrparkmanagement – Dienstwagensteuer ist ein Online-Seminar zu steuerlichen Grundlagen im betrieblichen Fuhrpark. Sie richtet sich an Verantwortliche\, die sich mit Dienstwagenregelungen befassen. \nBehandelt werden rechtliche und steuerliche Rahmenbedingungen rund um die Nutzung und Versteuerung von Dienstfahrzeugen. Ziel ist die Vermittlung von Basiswissen für eine sachgerechte Einordnung im Fuhrparkalltag. Der inhaltliche Fokus liegt auf Grundlagen Fuhrparkmanagement Dienstwagensteuer. \nInteressierte können den Termin vormerken und weitere Informationen auf der Event-Website einsehen.
URL:https://www.flottentermine.de/event/grundlagen-fuhrparkmanagement-dienstwagensteuer/
LOCATION:Online
CATEGORIES:Online
END:VEVENT
BEGIN:VEVENT
DTSTART;TZID=Europe/Helsinki:20260319T090000
DTEND;TZID=Europe/Helsinki:20260319T170000
DTSTAMP:20260426T010917
CREATED:20260311T141951Z
LAST-MODIFIED:20260311T141951Z
UID:10000107-1773910800-1773939600@www.flottentermine.de
SUMMARY:Allein gelassen mit deiner Ladeinfrastruktur? So sicherst du Betrieb und Investition
DESCRIPTION:Dieses Webinar thematisiert den Betrieb und die langfristige Absicherung von Ladeinfrastruktur im Unternehmensumfeld. Im Mittelpunkt steht die Frage\, wie Organisationen mit bestehenden Systemen umgehen\, wenn sich Anforderungen oder Anbieter ändern. \nAm Beispiel des Szenarios Allein gelassen mit deiner Ladeinfrastruktur? So sicherst du Betrieb und Investition werden Aspekte wie Anbieterwechsel\, Migration und der kontinuierliche Betrieb von Ladeinfrastruktur behandelt. Das Webinar richtet sich an Verantwortliche\, die Ladeinfrastruktur strategisch betreiben oder weiterentwickeln.
URL:https://www.flottentermine.de/event/ladeinfrastruktur-betrieb-investition/
LOCATION:Online
CATEGORIES:Online
ORGANIZER;CN="The Mobility House GmbH":MAILTO:info@mobilityhouse.com
END:VEVENT
BEGIN:VEVENT
DTSTART;TZID=Europe/Helsinki:20260319T110000
DTEND;TZID=Europe/Helsinki:20260319T114500
DTSTAMP:20260426T010917
CREATED:20260308T162255Z
LAST-MODIFIED:20260308T162812Z
UID:10000082-1773918000-1773920700@www.flottentermine.de
SUMMARY:Öffentliches Laden strategisch denken
DESCRIPTION:Öffentliches Laden strategisch denken ist ein Webinar zu Planung und Einordnung öffentlicher Ladeinfrastruktur im Kontext der Elektromobilität. Die Veranstaltung richtet sich an Verantwortliche\, die sich mit Lade- und Mobilitätsstrategien in Unternehmen befassen. \nIm Fokus stehen Rahmenbedingungen\, mögliche Einsatzszenarien und strategische Überlegungen zum Aufbau und Betrieb öffentlich zugänglicher Ladepunkte. Behandelt werden Aspekte rund um Planung\, Nutzung und Integration in bestehende Mobilitätskonzepte.
URL:https://www.flottentermine.de/event/oeffentliches-laden-strategisch-denken/
LOCATION:Online
CATEGORIES:Online
ORGANIZER;CN="EnBW Energie Baden-W%C3%BCrttemberg AG":MAILTO:kontakt@enbw.com
END:VEVENT
BEGIN:VEVENT
DTSTART;VALUE=DATE:20260320
DTEND;VALUE=DATE:20260322
DTSTAMP:20260426T010917
CREATED:20251229T171406Z
LAST-MODIFIED:20260331T201629Z
UID:10000050-1773964800-1774137599@www.flottentermine.de
SUMMARY:Würzburger Karosserie- und Schadenstage
DESCRIPTION:Die Würzburger Karosserie- und Schadenstage sind eine Fachveranstaltung rund um Karosserieinstandsetzung\, Schadenmanagement und technische Entwicklungen im Fahrzeugbereich. Sie richten sich an Fachkräfte aus Werkstatt\, Schadensteuerung\, Flottenmanagement und angrenzenden Branchen. \nIm Mittelpunkt stehen aktuelle Themen aus Reparaturtechnik\, Fahrzeugbau sowie Prozesse im Schaden- und Instandsetzungsbereich. Fachvorträge und Branchenbeiträge bieten Einblicke in Entwicklungen und Praxisfragen rund um die Würzburger Karosserie- und Schadenstage.
URL:https://www.flottentermine.de/event/karosserie-und-schadenstage/
LOCATION:VCC Vogel Convention Center\, Max-Planck-Str. 7\, Würzburg\, 97082\, Germany
CATEGORIES:Präsenz
GEO:49.7970754;9.9007396
X-APPLE-STRUCTURED-LOCATION;VALUE=URI;X-ADDRESS=VCC Vogel Convention Center Max-Planck-Str. 7 Würzburg 97082 Germany;X-APPLE-RADIUS=500;X-TITLE=Max-Planck-Str. 7:geo:9.9007396,49.7970754
END:VEVENT
BEGIN:VEVENT
DTSTART;TZID=Europe/Helsinki:20260320T093000
DTEND;TZID=Europe/Helsinki:20260320T170000
DTSTAMP:20260426T010917
CREATED:20260308T163749Z
LAST-MODIFIED:20260308T164757Z
UID:10000084-1773999000-1774026000@www.flottentermine.de
SUMMARY:Wenn das Lastenrad zum Firmenfahrzeug wird
DESCRIPTION:Die Veranstaltung Wenn das Lastenrad zum Firmenfahrzeug wird behandelt den Einsatz von Lastenrädern im betrieblichen Mobilitäts- und Fuhrparkumfeld. Sie richtet sich an Verantwortliche\, die alternative Fahrzeugkonzepte für Unternehmen prüfen. \nIm Mittelpunkt stehen Einsatzmöglichkeiten\, organisatorische Aspekte sowie Rahmenbedingungen für die Integration von Lastenrädern in betriebliche Mobilitätslösungen. Thematisiert wird dabei auch der Ansatz Lastenrad Firmenfahrzeug im Kontext moderner Unternehmensmobilität.
URL:https://www.flottentermine.de/event/lastenrad-firmenfahrzeug-flottentermin/
LOCATION:Les Halles\, Areal Böhler\, Hansaallee 321\, Düsseldorf\, 40549\, Germany
CATEGORIES:Präsenz
ORGANIZER;CN="Kernpunkt.PR":MAILTO:info@kernpunktpr.de
GEO:51.2430935;6.7133097
X-APPLE-STRUCTURED-LOCATION;VALUE=URI;X-ADDRESS=Les Halles Areal Böhler Hansaallee 321 Düsseldorf 40549 Germany;X-APPLE-RADIUS=500;X-TITLE=Hansaallee 321:geo:6.7133097,51.2430935
END:VEVENT
BEGIN:VEVENT
DTSTART;TZID=Europe/Helsinki:20260320T100000
DTEND;TZID=Europe/Helsinki:20260320T110000
DTSTAMP:20260426T010917
CREATED:20260316T160832Z
LAST-MODIFIED:20260316T160832Z
UID:10000111-1774000800-1774004400@www.flottentermine.de
SUMMARY:Wege zur klimaneutralen Mobilität
DESCRIPTION:Die Veranstaltung Wege zur klimaneutralen Mobilität ist ein Online-Event zu Strategien und Entwicklungen im Bereich nachhaltiger Unternehmensmobilität. Sie richtet sich an Verantwortliche aus Fuhrpark- und Mobilitätsmanagement. \nIm Mittelpunkt stehen aktuelle Ansätze zur Reduzierung von Emissionen sowie organisatorische und technologische Möglichkeiten für eine klimafreundliche Mobilitätsgestaltung in Unternehmen. Thematisiert werden dabei verschiedene Perspektiven und Entwicklungen rund um Wege zur klimaneutralen Mobilität.
URL:https://www.flottentermine.de/event/wege-zur-klimaneutralen-mobilitaet/
LOCATION:Online
CATEGORIES:Online
ORGANIZER;CN="CARextern Automotive Services GmbH":MAILTO:contact@car-extern.de
END:VEVENT
BEGIN:VEVENT
DTSTART;TZID=Europe/Helsinki:20260324T100000
DTEND;TZID=Europe/Helsinki:20260324T113000
DTSTAMP:20260426T010917
CREATED:20260308T170102Z
LAST-MODIFIED:20260308T170156Z
UID:10000086-1774346400-1774351800@www.flottentermine.de
SUMMARY:Sprengstoffrecht – Eingeschränkte Fachkunde
DESCRIPTION:Die Veranstaltung Sprengstoffrecht – Eingeschränkte Fachkunde ist ein Online-Seminar zu rechtlichen Grundlagen im Umgang mit bestimmten explosionsgefährlichen Stoffen. Sie richtet sich an Personen\, die im Transport- oder Logistikumfeld mit entsprechenden Vorschriften arbeiten. \nIm Fokus stehen gesetzliche Anforderungen\, Zuständigkeiten und praktische Fragestellungen im Anwendungsbereich des Sprengstoffrechts. Behandelt werden zentrale Inhalte rund um Sprengstoffrecht Eingeschränkte Fachkunde im beruflichen Kontext.
URL:https://www.flottentermine.de/event/sprengstoffrecht-eingeschraenkte-fachkunde/
LOCATION:Online
CATEGORIES:Online
END:VEVENT
END:VCALENDAR